BEGIN:VCALENDAR
VERSION:2.0
PRODID:-//Δήμος Λουτρακίου - ECPv4.6.12//NONSGML v1.0//EN
CALSCALE:GREGORIAN
METHOD:PUBLISH
X-WR-CALNAME:Δήμος Λουτρακίου
X-ORIGINAL-URL:https://loutraki.gov.gr/en
X-WR-CALDESC:Events for Δήμος Λουτρακίου
BEGIN:VEVENT
DTSTART;TZID=Europe/Athens:20191102T190000
DTEND;TZID=Europe/Athens:20191102T190000
DTSTAMP:20260421T081807
CREATED:20191023T095302Z
LAST-MODIFIED:20191023T095302Z
UID:18814-1572721200-1572721200@loutraki.gov.gr
SUMMARY:Ενημερωτική Ημερίδα για τον Καρκίνο Μαστού
DESCRIPTION:Ενημερωτική Ημερίδα με θέμα  \n‘Καρκίνος Μαστού: Μέχρι χθες παράλειψη. Από σήμερα πρόληψη!’ \nμε στόχο την ενημέρωση και την ευαισθητοποίηση του κοινού. \n\nΤην Επιστημονική Ημερίδα θα τιμήσουν με τις ομιλίες τους διακεκριμένοι χειρουργοί μαστού\, μαστολόγοι και πλαστικοί χειρουργοί\, καλύπτοντας όλο το φάσμα της χειρουργικής θεραπείας και αποκατάστασης σε περιπτώσεις καρκίνου του μαστού. \nprof. Stefanos Zervoudis MD\, PhD\nAssociate Professor of Mastology\nGreek – French Unit REA Maternity Hospital \nΔημήτρης Γκρίτζαλης\nΠλαστικός Χειρουργός\nΣυνεργάτης ΡΕΑ Μ.Χ.Θ.Δ. Κλινικής \nΣωτήρης Μήτρου MD\, MSc\, DFSRH\nΜαιευτήρας – Γυναικολόγος\nΜέλος Δ.Σ. ΡΕΑ Μ.Χ.Θ.Δ. Κλινικής \n  \n \n
URL:https://loutraki.gov.gr/en/event/enimerotiki-imerida-gia-ton-karkino-mastoy/
LOCATION:Γεωργίου Λέκκα 24\, Λουτράκι\, Κορινθία\, 20300\, Ελλάδα
GEO:37.9801995;22.9729324
X-APPLE-STRUCTURED-LOCATION;VALUE=URI;X-ADDRESS=Γεωργίου Λέκκα 24 Λουτράκι Κορινθία 20300 Ελλάδα;X-APPLE-RADIUS=500;X-TITLE=Γεωργίου Λέκκα 24:geo:22.9729324,37.9801995
CATEGORIES:Υγείας
ATTACH;FMTTYPE=image/jpeg:https://loutraki.gov.gr/wp-content/uploads/2019/10/facebook-event-01.jpg
END:VEVENT
END:VCALENDAR