BEGIN:VCALENDAR
VERSION:2.0
PRODID:-//Δήμος Λουτρακίου - ECPv4.6.12//NONSGML v1.0//EN
CALSCALE:GREGORIAN
METHOD:PUBLISH
X-WR-CALNAME:Δήμος Λουτρακίου
X-ORIGINAL-URL:https://loutraki.gov.gr
X-WR-CALDESC:Events for Δήμος Λουτρακίου
BEGIN:VEVENT
DTSTART;TZID=Europe/Athens:20250307T180000
DTEND;TZID=Europe/Athens:20250307T200000
DTSTAMP:20260422T020212
CREATED:20250319T085612Z
LAST-MODIFIED:20250319T085612Z
UID:31332-1741370400-1741377600@loutraki.gov.gr
SUMMARY:Ενημερωτική Ημερίδα για τις Διαταραχές της Διάθεσης & του Άγχους
DESCRIPTION:\nΕνημερωτική Ημερίδα για τις Διαταραχές της Διάθεσης & του Άγχους \n\n\n Παρασκευή 7 Μαρτίου 2025\n Κέντρο Υγείας Λουτρακίου (Αίθουσα Εκδηλώσεων)\n Ώρα: 18:00 |  Είσοδος Ελεύθερη\n\n\n Θέμα: Αναγνώριση & τρόποι διαχείρισης των διαταραχών της διάθεσης και των αγχωδών διαταραχών.\n\n\n Ομιλητές:\n Παρασκευή Σούκουλη – Επιστημονικά Υπεύθυνη ΚΥ Λουτρακίου\, Διδάκτορας Πανεπιστημίου Αθηνών\n Αντώνης Πολίτης – Καθηγητής Ψυχιατρικής\, Α’ Ψυχιατρική Κλινική ΕΚΠΑ\n\n\n Υπό την αιγίδα του Ιατρικός Σύλλογος Κορινθίας & του Δήμος Λουτρακίου – Περαχώρας – Αγίων Θεοδώρων.\n\n\n Μια σημαντική ημερίδα για την κατανόηση και αντιμετώπιση της ψυχικής υγείας. Μην τη χάσετε!\n\n
URL:https://loutraki.gov.gr/event/enimerotiki-imerida-gia-tis-diataraches-tis-diathesis-toy-agchoys/
CATEGORIES:Υγείας
ATTACH;FMTTYPE=image/jpeg:https://loutraki.gov.gr/wp-content/uploads/2025/03/481445189_1073462381481947_2349553476283034104_n.jpg
END:VEVENT
END:VCALENDAR