BEGIN:VCALENDAR
VERSION:2.0
PRODID:-//Δήμος Λουτρακίου - ECPv4.6.12//NONSGML v1.0//EN
CALSCALE:GREGORIAN
METHOD:PUBLISH
X-WR-CALNAME:Δήμος Λουτρακίου
X-ORIGINAL-URL:https://loutraki.gov.gr
X-WR-CALDESC:Events for Δήμος Λουτρακίου
BEGIN:VEVENT
DTSTART;TZID=Europe/Athens:20230924T180000
DTEND;TZID=Europe/Athens:20230924T200000
DTSTAMP:20260421T081630
CREATED:20230919T074612Z
LAST-MODIFIED:20231031T084742Z
UID:28556-1695578400-1695585600@loutraki.gov.gr
SUMMARY:Ενημερωτική εκδήλωση
DESCRIPTION:Ενημερωτική εκδήλωση με θέμα:\n«Πρωτοβάθμια Φροντίδα Υγείας & Ηλικιωμένοι Ασθενείς: Ας αναπτύξουμε μια σχέση ψυχής»\nΚυριακή 24.09 | ώρα 18.00 | Loutraki Spa\n—–\nΟμιλητές:\nΔρ. Αντώνιος Πολίτης\nΔρ. Παρασκευή Σούκουλη\n_____\nΔιοργάνωση:\nΚέντρο Υγείας Λουτρακίου\nσε συνεργασία με την Ψυχιατρική Κλινική του Πανεπιστημίου Αθηνών\nμε τη στήριξη του Δήμος Λουτρακίου – Περαχώρας – Αγίων Θεοδώρων\n
URL:https://loutraki.gov.gr/event/enimerotiki-ekdilosi/
LOCATION:Γεωργίου Λέκκα 24\, Λουτράκι\, Κορινθία\, 20300\, Ελλάδα
GEO:37.9801995;22.9729324
X-APPLE-STRUCTURED-LOCATION;VALUE=URI;X-ADDRESS=Γεωργίου Λέκκα 24 Λουτράκι Κορινθία 20300 Ελλάδα;X-APPLE-RADIUS=500;X-TITLE=Γεωργίου Λέκκα 24:geo:22.9729324,37.9801995
CATEGORIES:Υγείας
ATTACH;FMTTYPE=image/jpeg:https://loutraki.gov.gr/wp-content/uploads/2023/10/376405312_702055585289297_6482252682039333445_n.jpg
END:VEVENT
END:VCALENDAR