BEGIN:VCALENDAR
VERSION:2.0
PRODID:-//Δήμος Λουτρακίου - ECPv4.6.12//NONSGML v1.0//EN
CALSCALE:GREGORIAN
METHOD:PUBLISH
X-WR-CALNAME:Δήμος Λουτρακίου
X-ORIGINAL-URL:https://loutraki.gov.gr
X-WR-CALDESC:Events for Δήμος Λουτρακίου
BEGIN:VEVENT
DTSTART;VALUE=DATE:20181220
DTEND;VALUE=DATE:20181221
DTSTAMP:20260425T032722
CREATED:20181213T173434Z
LAST-MODIFIED:20181213T173434Z
UID:17191-1545264000-1545350399@loutraki.gov.gr
SUMMARY:Ένας Δρόμος Χριστούγεννα
DESCRIPTION:Πέμπτη 20/12 \n18:00 Χριστουγεννιάτικη Γιορτή στο ΚΑΠΗ Λουτρακίου\, Λουτράκι \n18:00 Παρακολούθηση της θεατρικής παράστασης «Μάγισσες της Σμύρνης» από τον Σύλλογο Γυναικών Αγίων Θεοδώρων\, Άγιοι Θεόδωροι \n
URL:https://loutraki.gov.gr/event/enas-dromos-christoygenna-7/
CATEGORIES:Ένας Δρόμος Χριστούγεννα,Πολιτιστικές
ATTACH;FMTTYPE=image/jpeg:https://loutraki.gov.gr/wp-content/uploads/2018/12/banner2.jpg
END:VEVENT
END:VCALENDAR