BEGIN:VCALENDAR
VERSION:2.0
PRODID:-//Δήμος Λουτρακίου - ECPv4.6.12//NONSGML v1.0//EN
CALSCALE:GREGORIAN
METHOD:PUBLISH
X-WR-CALNAME:Δήμος Λουτρακίου
X-ORIGINAL-URL:https://loutraki.gov.gr
X-WR-CALDESC:Events for Δήμος Λουτρακίου
BEGIN:VEVENT
DTSTART;TZID=Europe/Athens:20240601T190000
DTEND;TZID=Europe/Athens:20240609T220000
DTSTAMP:20260419T180603
CREATED:20240529T093122Z
LAST-MODIFIED:20240529T093246Z
UID:29710-1717268400-1717970400@loutraki.gov.gr
SUMMARY:Έκθεση Ζωγραφικής - JANE SAUNDERS & ΕΛΕΝΗ ΘΕΟΔΟΣΙΟΥ
DESCRIPTION:Έκθεση Ζωγραφικής – JANE SAUNDERS & ΕΛΕΝΗ ΘΕΟΔΟΣΙΟΥ\n\n Σάββατο 1 Ιουνίου 2024\, 20:00\n Ξενοδοχείο Beau Rivage (Ποσειδώνος & Ήρας)\n\nΔιάρκεια Έκθεσης: 1-9 Ιουνίου 2024\nΏρες Λειτουργίας: 19:00 – 22:00 \n \n
URL:https://loutraki.gov.gr/event/ekthesi-zografikis-jane-saunders-eleni-theodosioy/
LOCATION:Ποσειδώνος 1\, Λουτράκι\, Κορινθία\, 20300
GEO:37.9762688;22.9765313
X-APPLE-STRUCTURED-LOCATION;VALUE=URI;X-ADDRESS=Ποσειδώνος 1 Λουτράκι Κορινθία 20300;X-APPLE-RADIUS=500;X-TITLE=Ποσειδώνος 1:geo:22.9765313,37.9762688
CATEGORIES:Πολιτιστικές
ATTACH;FMTTYPE=image/jpeg:https://loutraki.gov.gr/wp-content/uploads/2024/05/ΕΚΘΕΣΗ-JANE-SAUNDERS.jpg
END:VEVENT
END:VCALENDAR