BEGIN:VCALENDAR
VERSION:2.0
PRODID:-//Δήμος Λουτρακίου - ECPv4.6.12//NONSGML v1.0//EN
CALSCALE:GREGORIAN
METHOD:PUBLISH
X-WR-CALNAME:Δήμος Λουτρακίου
X-ORIGINAL-URL:https://loutraki.gov.gr
X-WR-CALDESC:Events for Δήμος Λουτρακίου
BEGIN:VEVENT
DTSTART;TZID=Europe/Athens:20250316T183000
DTEND;TZID=Europe/Athens:20250316T183000
DTSTAMP:20260422T020259
CREATED:20250319T085243Z
LAST-MODIFIED:20250319T085243Z
UID:31323-1742149800-1742149800@loutraki.gov.gr
SUMMARY:Εκδήλωση για την Επανάσταση του 1821 στην Περαχώρα
DESCRIPTION:\nΟι Φίλοι Αρχαιολογικού Μουσείου Περαχώρας διοργανώνουν ομιλία με τον κ. Σάββας Καλεντερίδης ΙΙ\, γεωστρατηγικό αναλυτή\, εκδότη & συγγραφέα\, με θέμα:  «Ποια είναι τα μηνύματα της Επανάστασης του 1821 σήμερα».\n\n\n Κυριακή 16 Μαρτίου 2025\n Ώρα: 18:30\n Πνευματικό Κέντρο Περαχώρας\n\n\n Συμμετέχει το Γυμνάσιο Περαχώρας.\n Υπό την αιγίδα του Δήμος Λουτρακίου – Περαχώρας – Αγίων Θεοδώρων.\n\n
URL:https://loutraki.gov.gr/event/ekdilosi-gia-tin-epanastasi-toy-1821-stin-perachora/
LOCATION:Περαχώρα\, Λουτράκι\, Κορινθία\, 20300\, Ελλάδα
GEO:38.0301124;22.9485075
X-APPLE-STRUCTURED-LOCATION;VALUE=URI;X-ADDRESS=Περαχώρα Λουτράκι Κορινθία 20300 Ελλάδα;X-APPLE-RADIUS=500;X-TITLE=Περαχώρα:geo:22.9485075,38.0301124
ATTACH;FMTTYPE=image/jpeg:https://loutraki.gov.gr/wp-content/uploads/2025/03/483451574_1079012304260288_6080709740152407645_n.jpg
END:VEVENT
END:VCALENDAR