BEGIN:VCALENDAR
VERSION:2.0
PRODID:-//Δήμος Λουτρακίου - ECPv4.6.12//NONSGML v1.0//EN
CALSCALE:GREGORIAN
METHOD:PUBLISH
X-WR-CALNAME:Δήμος Λουτρακίου
X-ORIGINAL-URL:https://loutraki.gov.gr
X-WR-CALDESC:Events for Δήμος Λουτρακίου
BEGIN:VEVENT
DTSTART;TZID=Europe/Athens:20240902T080000
DTEND;TZID=Europe/Athens:20240904T170000
DTSTAMP:20260422T102202
CREATED:20240726T115253Z
LAST-MODIFIED:20240809T111711Z
UID:30084-1725264000-1725469200@loutraki.gov.gr
SUMMARY:Διεθνές Φεστιβάλ Κλασικής Μουσικής «Opus» 2024
DESCRIPTION:Με ιδιαίτερη χαρά σας προσκαλούμε στο Διεθνές Φεστιβάλ Κλασικής Μουσικής «Opus» 2024\, το οποίο έχει ως στόχο να φέρει τους νέους κοντά στην κλασική μουσική\, να διευρύνει τους ορίζοντές τους και να καταστήσει το Λουτράκι διεθνή προορισμό για μουσικούς από την Ελλάδα και το εξωτερικό. \nΣτο φετινό φεστιβάλ\, θα έχουμε τη χαρά να φιλοξενήσουμε δύο σπουδαίους κλαρινετίστες\, τον Nicolas Baldeyrou και το Σπύρο Μουρίκη\, οι οποίοι θα μοιραστούν την εμπειρία και τις γνώσεις τους μέσω εξειδικευμένων μαθημάτων. \nΠρόγραμμα:\n\nΗμερομηνίες: Δευτέρα 2 Σεπτεμβρίου έως Τετάρτη 4 Σεπτεμβρίου 2024\nΤοποθεσία: Φιλαρμονική Λουτρακίου\n\nΔιαδικασία Συμμετοχής:\nΟι ενδιαφερόμενοι μπορούν να συμπληρώσουν την αίτηση συμμετοχής στην ιστοσελίδα μας ή να μας στείλουν μήνυμα μέσω ηλεκτρονικού ταχυδρομείου στο filarmonikiloutrakiou@yahoo.com \nΜην χάσετε την ευκαιρία να συμμετάσχετε σε αυτό το μοναδικό μουσικό γεγονός\, να διδαχθείτε από κορυφαίους καλλιτέχνες και να γίνετε μέρος μιας παγκόσμιας μουσικής κοινότητας. \n \n
URL:https://loutraki.gov.gr/event/diethnes-festival-klasikis-moysikis-opus-2024/
LOCATION:Κολοκοτρώνη 17\, Λουτράκι\, 20300\, Ελλάδα
GEO:37.9764333;22.9785725
X-APPLE-STRUCTURED-LOCATION;VALUE=URI;X-ADDRESS=Κολοκοτρώνη 17 Λουτράκι 20300 Ελλάδα;X-APPLE-RADIUS=500;X-TITLE=Κολοκοτρώνη 17:geo:22.9785725,37.9764333
CATEGORIES:Πολιτιστικές
ATTACH;FMTTYPE=image/png:https://loutraki.gov.gr/wp-content/uploads/2024/07/Loutraki-band-24-2.png
END:VEVENT
END:VCALENDAR