BEGIN:VCALENDAR
VERSION:2.0
PRODID:-//Δήμος Λουτρακίου - ECPv4.6.12//NONSGML v1.0//EN
CALSCALE:GREGORIAN
METHOD:PUBLISH
X-WR-CALNAME:Δήμος Λουτρακίου
X-ORIGINAL-URL:https://loutraki.gov.gr
X-WR-CALDESC:Events for Δήμος Λουτρακίου
BEGIN:VEVENT
DTSTART;TZID=Europe/Athens:20240324T180000
DTEND;TZID=Europe/Athens:20240324T200000
DTSTAMP:20260422T223446
CREATED:20240321T102235Z
LAST-MODIFIED:20240321T102235Z
UID:29281-1711303200-1711310400@loutraki.gov.gr
SUMMARY:Corinthian Pro MMA 2024 (CPΜΜA)
DESCRIPTION:\nΗ πολύ επιτυχημένη και πρώτη διοργάνωση εξ ολοκλήρου ΜΜΑ στη Πελοπόννησο επιστρέφει δυναμικά και το 2024!\n\n\nΤο Corinthian Pro MMA (CPΜΜA)\, ο ετήσιος θεσμός με επίλεκτους αγώνες ΜΜΑ ετοιμάζει την «δράση» του στο Club Hotel Casino Loutraki στις 24 Μαρτίου 2024.\n\n\nΤο φετινό CPMMA θα είναι μια ξεχωριστή βραδιά μαχητικών αθλημάτων όπου οι πιστοί φίλοι και θεατές του MMA\, θα εντυπωσιαστούν από τους Έλληνες αθλητές\, υψηλού επιπέδου που θα αγωνίζονται\, σε απόσταση αναπνοής από το κοινό!\n\n\nΠέρα από την αθλητική δράση\, η συμμετοχή των Onel & Christina\, οι ξεχωριστοί σε όλους μας «UMOVE»\, είναι σίγουρο ότι θα απογειώσουν την ροή των φετινών αγώνων\, με μια χορευτική επίδειξη σύγχρονου & brakedance χορού.\n\n\nΜείνετε συντονισμένοι\, το CPMMA 2024 είναι άχαστο! Με εκρηκτικές αθλητικές συμμέτοχες\, VIP καλεσμένους\, εκπλήξεις & φυσικά After Party στο ξεχωριστό «Κολωνάκι Spirits» στο Λουτράκι.\n\n\nhttps://youtu.be/hBhoxmh-aoE\n\n\nΤο 2024\, γράφουμε ιστορία και ανεβαίνουμε επίπεδο!\nΜην λείψει κανείς!\n\n\n#cityofloutrakiofficial #visitloutraki #visitgreece #mmaKorinthos\n\n
URL:https://loutraki.gov.gr/event/corinthian-pro-mma-2024-cpmma/
LOCATION:Ποσειδώνος 48\, ΛΟΥΤΡΑΚΙ\, 20300\, Ελλάδα
CATEGORIES:Αθλητικές
ATTACH;FMTTYPE=image/jpeg:https://loutraki.gov.gr/wp-content/uploads/2024/03/A3-sponsors-1.jpg
END:VEVENT
END:VCALENDAR