BEGIN:VCALENDAR
VERSION:2.0
PRODID:-//Δήμος Λουτρακίου - ECPv4.6.12//NONSGML v1.0//EN
CALSCALE:GREGORIAN
METHOD:PUBLISH
X-WR-CALNAME:Δήμος Λουτρακίου
X-ORIGINAL-URL:https://loutraki.gov.gr
X-WR-CALDESC:Events for Δήμος Λουτρακίου
BEGIN:VEVENT
DTSTART;TZID=Europe/Athens:20180630T211500
DTEND;TZID=Europe/Athens:20180701T000000
DTSTAMP:20260425T105725
CREATED:20180625T100720Z
LAST-MODIFIED:20180625T100720Z
UID:15850-1530393300-1530403200@loutraki.gov.gr
SUMMARY:Χορευτική Παράσταση "Summer Show 2018"
DESCRIPTION:Χορευτική Παράσταση «Summer Show 2018» του Τμήματος Ευρωπαϊκών χορών του Δήμος Λουτρακίου – Περαχώρας – Αγίων Θεοδώρων. \nΥπεύθυνη Χοροδιδάσκαλος: Ιωαννα χατζηαθανασιου! \n
URL:https://loutraki.gov.gr/event/choreytiki-parastasi-summer-show-2018/
LOCATION:Πάρκο Δεξαμενής\, Λουτράκι\, 20300\, Ελλάδα
CATEGORIES:Πολιτιστικές
ATTACH;FMTTYPE=image/jpeg:https://loutraki.gov.gr/wp-content/uploads/2018/06/35972492_1589795064477192_4158063465388310528_n.jpg
END:VEVENT
END:VCALENDAR