BEGIN:VCALENDAR
VERSION:2.0
PRODID:-//Δήμος Λουτρακίου - ECPv4.6.12//NONSGML v1.0//EN
CALSCALE:GREGORIAN
METHOD:PUBLISH
X-WR-CALNAME:Δήμος Λουτρακίου
X-ORIGINAL-URL:https://loutraki.gov.gr
X-WR-CALDESC:Events for Δήμος Λουτρακίου
BEGIN:VEVENT
DTSTART;TZID=Europe/Athens:20250831T200000
DTEND;TZID=Europe/Athens:20250831T213000
DTSTAMP:20260421T111712
CREATED:20250728T094829Z
LAST-MODIFIED:20250728T094829Z
UID:32090-1756670400-1756675800@loutraki.gov.gr
SUMMARY:ΧΑΡΟΥΜΕΝΗ ΤΡΕΛΟΠΑΡΕΑ
DESCRIPTION:ΠΑΙΔΙΚΟ ΘΕΑΤΡΟ «ΠΟΛΥΘΕΑΜΑ». Παιδική παράσταση «ΧΑΡΟΥΜΕΝΗ ΤΡΕΛΟΠΑΡΕΑ». Ένα μιούζικαλ γεμάτο κέφι\, γέλιο\, τραγούδι και πολλές εκπλήξεις!! \n \n
URL:https://loutraki.gov.gr/event/charoymeni-treloparea-2/
LOCATION:Πάρκο Δεξαμενής\, Λουτράκι\, 20300\, Ελλάδα
GEO:37.9727548;22.9858004
X-APPLE-STRUCTURED-LOCATION;VALUE=URI;X-ADDRESS=Πάρκο Δεξαμενής Λουτράκι 20300 Ελλάδα;X-APPLE-RADIUS=500;X-TITLE=Πάρκο Δεξαμενής:geo:22.9858004,37.9727548
CATEGORIES:Πολιτιστικές
ATTACH;FMTTYPE=image/jpeg:https://loutraki.gov.gr/wp-content/uploads/2025/07/514918846_23926426863663914_9192588049482459981_n.jpg
END:VEVENT
END:VCALENDAR