BEGIN:VCALENDAR
VERSION:2.0
PRODID:-//Δήμος Λουτρακίου - ECPv4.6.12//NONSGML v1.0//EN
CALSCALE:GREGORIAN
METHOD:PUBLISH
X-WR-CALNAME:Δήμος Λουτρακίου
X-ORIGINAL-URL:https://loutraki.gov.gr/en
X-WR-CALDESC:Events for Δήμος Λουτρακίου
BEGIN:VEVENT
DTSTART;TZID=Europe/Athens:20220220T190000
DTEND;TZID=Europe/Athens:20220220T210000
DTSTAMP:20260423T195635
CREATED:20220217T104224Z
LAST-MODIFIED:20220218T104719Z
UID:25166-1645383600-1645390800@loutraki.gov.gr
SUMMARY:Baroque café
DESCRIPTION:Ο Δήμος Λουτρακίου – Περαχώρας – Αγίων Θεοδώρων και η Φιλαρμονική Λουτρακίου παρουσιάζουν τη συναυλία μουσικής δωματίου “Baroque café“\, με έργα των Antonio Vivaldi και Johann Sebastian Bach. \nΕρμηνεύουν οι φοιτητές του μεταπτυχιακού προγράμματος «Iστορία\, Θεωρία και Eρμηνεία της Δυτικής Mουσικής» του Τμήματος Μουσικών Σπουδών του Εθνικού και Καποδιστριακού Πανεπιστημίου Αθηνών. \nΣυμμετέχουν:\nΚατερίνα Παντελέων – Φλάουτο \nΜαρία Παχνιστή – Πίκολο Φλάουτο \nΘάλεια Μουτοπούλου – Τραγούδι\, Πιάνο \nΚωνσταντίνος Παπαθύμιος – Πιάνο \n\nΚυριακή 20 Φεβρουαρίου 2022 | 19.00 | Φιλαρμονική Ορχήστρα Λουτρακίου (Κολοκοτρώνη 17\, Λουτράκι)\nΕίσοδος Ελεύθερη \nΑπαραίτητη η κράτηση θέσης | Πληροφορίες – Κρατήσεις: 2744065619 (καθημερινά 6μ.μ. – 9μ.μ.) \n  \n \n
URL:https://loutraki.gov.gr/en/event/baroque-cafe/
LOCATION:Κολοκοτρώνη 17\, Λουτράκι\, Κορινθία\, 20300\, Ελλάδα
GEO:37.9764333;22.9785725
X-APPLE-STRUCTURED-LOCATION;VALUE=URI;X-ADDRESS=Κολοκοτρώνη 17 Λουτράκι Κορινθία 20300 Ελλάδα;X-APPLE-RADIUS=500;X-TITLE=Κολοκοτρώνη 17:geo:22.9785725,37.9764333
CATEGORIES:
ATTACH;FMTTYPE=image/png:https://loutraki.gov.gr/wp-content/uploads/2022/02/Baroque-ps.png
END:VEVENT
END:VCALENDAR