BEGIN:VCALENDAR
VERSION:2.0
PRODID:-//Δήμος Λουτρακίου - ECPv4.6.12//NONSGML v1.0//EN
CALSCALE:GREGORIAN
METHOD:PUBLISH
X-WR-CALNAME:Δήμος Λουτρακίου
X-ORIGINAL-URL:https://loutraki.gov.gr
X-WR-CALDESC:Events for Δήμος Λουτρακίου
BEGIN:VEVENT
DTSTART;TZID=Europe/Athens:20200811T093000
DTEND;TZID=Europe/Athens:20200811T123000
DTSTAMP:20260423T222431
CREATED:20200130T115233Z
LAST-MODIFIED:20200923T065121Z
UID:19460-1597138200-1597149000@loutraki.gov.gr
SUMMARY:ΑΘΛΟΣ+ΕΝΕΡΓΕΙΑ 2020
DESCRIPTION:\nΑΘΛΟΣ+ΕΝΕΡΓΕΙΑ 2020\n\n\n\n\n\nΠΡΟΚΗΡΥΞΗ ΑΓΩΝΩΝ \nΗ Οργανωτική Επιτροπή του «ΑΘΛΟΣ + ΕΝΕΡΓΕΙΑ» προκηρύσσει για την Κυριακή4 Οκτωβρίου 2020 \n\nTον 7ο δρόμο σύζευξης αρχαιολογικών χώρων «Θέρμαι Λουτράκι -Ναός Ακραίας Ήρας Περαχώρας»\nΤον 5ο Γύρο της Λίμνης Βουλιαγμένη και\nΤον 6ο Ηραίο δρόμο 800μ\n\nΓΕΝΙΚΑ \nΟ 7os δρόμος σύζευξης αρχαιολογικών χώρων «Θέρμαι – Ναός Ακραίας Ήρας» είναι αγώνας ασφάλτου απόστασης 20.900 μέτρων. Ξεκινάει από το Λουτράκι\, ακολουθεί τον δρόμο Λουτρακίου – Περαχώρας και φτάνοντας στην Περαχώρα κατηφορίζει στον κεντρικό δρόμο που οδηγεί στη λίμνη Βουλιαγμένη και από εκεί στο πλάτωμα του αρχαιολογικού χώρου του Ηραίου όπου και ο τερματισμός. \nΟ 5os Γύρος της Λίμνης Βουλιαγμένη απευθύνεται σε κάθε άτομο με σχετικά καλή φυσική κατάσταση και έχει μήκος 5.300 μέτρα. Η διαδρομή κινείται σε άσφαλτο έχοντας αριστερά τη λίμνη για να τερματίσει στο πλάτωμα του αρχαιολογικού χώρου του Ηραίου. \nΟ 6osΗραίος δρόμος – Όραμα Ελπίδας 800μ είναι μια γιορτή για τα παιδιά ηλικίας 8 έως 15 ετών και ευελπιστούμε να αποτελέσει την απαρχή για μελλοντικούς δρομείς. \nΥΠΟ ΤΗΝ ΑΙΓΙΔΑ   ΔΗΜΟΥ ΛΟΥΤΡΑΚΙΟΥ-ΠΕΡΑΧΩΡΑΣ –ΑΓΙΩΝ ΘΕΟΔΩΡΩΝ  \nΔιοργάνωση: <<ΑΘΛΟΣ + ΕΝΕΡΓΕΙΑ >> \nΑΤΥΠΗ ΣΥΝΕΡΓΑΣΙΑ ΣΥΛΛΟΓΩΝ-ΦΟΡΕΩΝ ΤΟΥ ΔΗΜΟΥ ΛΟΥΤΡΑΚΙΟΥ-ΠΕΡΑΧΩΡΑΣ –ΑΓΙΩΝ ΘΕΟΔΩΡΩΝ ΚΑΙ ΦΥΣΙΚΩΝ ΠΡΟΣΩΠΩΝ  \nΜε πρωτοβουλία\nτου Προοδευτικού Εκπολιτιστικού Μορφωτικού Συλλόγου (Π.Ε.Μ.Σ.) Περαχώρας\nτης Ένωσης Φίλων Αρχαιολογικού Μουσείου Περαχώρας\nτου Συλλόγου Γονέων και Κηδεμόνων Σχολείων Περαχώρας\nτου Εξωραϊστικού Συλλόγου Οικιστών Λίμνης Ηραίου\nτου Ορειβατικού Συλλόγου Λουτρακίου  \nτου Αθλητικού Ομίλου Περαχώρας\nκαι φυσικών προσώπων – δημοτών Δήμου Λουτρακίου – Περαχώρας – Αγίων Θεοδώρων \nΣκοπός μας είναι η ανάδειξη της αξίας της άθλησης στην καθημερινή μας ζωή και η προβολή των αρχαιολογικών χώρων και των ιστορικών μνημείων της ευρύτερης περιοχής του Δήμου μας\, με τη διεξαγωγή αγώνων που δίνουν την δυνατότητα στους δρομείς να τρέξουν πάνω σε πανέμορφες διαδρομές έναν ενδιαφέροντα αγώνα και στα παιδιά τη χαρά της συμμετοχής σε ένα αθλητικό δρώμενο. \nΠαράλληλα\, στοχεύουμε να φέρουμε τον αθλητισμό και το τρέξιμο πιο κοντά στους πολίτες της Κορινθίας\, στην ενσωμάτωσή της άθλησης στην καθημερινή μας ζωή και τη εμφύσηση του πνεύματος του “ευ αγωνίζεσθε” στους νέους. \nΠερισσότερες πληροφορίες\, αναλυτική περιγραφή και χάρτες των διαδρομών θα βρείτε στην ιστοσελίδα του Αθλος + Ενέργειαhttps://athlosenergeia.wordpress.com/ \nΠΕΡΙΣΣΟΤΕΡΑ \nΗμερομηνία διεξαγωγής: Κυριακή 4 Οκτωβρίου 2020 \nΏρες εκκίνησης: \n\nΔρόμος 20.900 μέτρων 09:30\nΑγώνας 5.300 χλμ : 09:30\nΑγώνας 800 μέτρων 09:00\n\nΔιαδρομή αγώνα 20.800 μέτρων \nΑφετηρία είναι το κυκλικό κτίριο της ιαματικής πηγής Λουτρακίου και η διαδρομή στην αρχή και για 4 χλμ. κινείται μέσα στο Λουτράκι. \nΒγαίνοντας από το Λουτράκι ξεκινάει μια διαδρομή 5 χλμ. συνεχούς ανηφόρας και υψομετρικής διαφοράς 250 μέτρων. Ακολουθούν 2 χλμ. στο ίδιο υψόμετρο μέχρι την Περαχώρα και από εδώ ξεκινάει η κατηφορική πορεία μέχρι τον τερματισμό με μια μικρή υψομετρική 40 μέτρων λίγο πριν τον τερματισμό που είναι ο αρχαιολογικός χώρος του ναού της Ήρας στο Φάρο Ηραίου. \nΗ έναρξη του αγώνα θα είναι στις 09:30\, ο χρόνος που δίνεται για τον τερματισμό είναι 3 ώρες \nΔιαδρομή αγώνα 5.300 μέτρων \nΣτη λίμνη Βουλιαγμένη Περαχώρας και με αφετηρία το ξενοδοχείο “ΜΑΝΤΑΣ” ξεκινάει η διαδρομή που κινείται σε άσφαλτο και στο ίδιο υψόμετρο\, έχοντας μια μικρή υψομετρική 40 μέτρων λίγο πριν τον τερματισμό και οι δρομείς αφού διατρέξουν περιμετρικά την λίμνη Βουλιαγμένη (Περαχώρας) καταλήγουν στον αρχαιολογικό χώρο του Ηραίου. \nΗ έναρξη του αγώνα θα είναι στις 09.30\, ο χρόνος που δίνεται για τον τερματισμό είναι 1 ώρα. \nΔήλωση συμμετοχής μπορούν να υποβάλουν άνδρες και γυναίκες που έχουν συμπληρώσει το 18ον έτος της ηλικίας τους\, στην ιστοσελίδα του αγώναhttps://athlosenergeia.wordpress.com/ \nΚύπελλα θα απονεμηθούν : \n\nΓια τον δρόμο 20.900 μέτρων\n\nΣτους 3 πρώτους και στις 3 πρώτες νικητές/τριες της γενικής κατάταξης \nκαι στις ηλικιακές κατηγορίες: \nΑνδρών \n\n18-30 ετών\n31-40 ετών\n41-50 ετών\n51-60 ετών και\n61 ετών\n\nΓυναικών \n\n18 – 35 ετών\n36+\n\nΣημ. – Στην κάθε κατηγορία θα πρέπει να συμμετέχουν 5 τουλάχιστον αθλητές. Σε περίπτωση που οι συμμετοχές είναι λιγότερες των 5 η κατηγορία δεν υφίσταται και οι διοργανωτές έχουν δικαίωμα να ενσωματώσουν τους αθλητές της κατηγορίας στην αμέσως επόμενη κατηγορία ή την προηγούμενη για την τελευταία ηλικιακά. \nΟι 3 νικητές/τριες της γενικής κατάταξης δεν θα μετέχουν στον υπολογισμό των νικητών των ηλικιακών κατηγοριών \n\nΓια τον δρόμο 5.300 μέτρων\n\nΘα απονεμηθούν κύπελλα στους 3 πρώτους και στις 3 πρώτες νικητές/τριες της γενικής κατάταξης \nΑναμνηστικά Θα δοθούν σε κάθε δρομέα που θα περάσει τη γραμμή του τερματισμού. \nΣΗΜΑΝΣΗ ΔΙΑΔΡΟΜΗΣ \nΗ σήμανση της διαδρομής ορίζεται από ταινίες έργου (χρώματος άσπρου και κόκκινου) που δείχνουν την σωστή πορεία του αθλητή καθώς και βέλη χρώματος μπλε. Σε καίρια σημεία της διαδρομής και σε περίπτωση που τα παραπάνω υλικά μέσα κριθούν ενδεχομένως ανεπαρκή\, θα υπάρχουν εθελοντές που θα καθοδηγούν τους αθλητές. \nΑΣΦΑΛΕΙΑ \nΟ κάθε αθλητής/ρια τρέχει με δική του/ης ευθύνη και ουδεμία ευθύνη φέρουν οι διοργανωτές σε περίπτωση τραυματισμού του/ης\, ή προβλήματος υγείας που τυχόν του ή της παρουσιασθεί κατά την διάρκεια του αγώνα ή και μετά τον αγώνα όμως με την φροντίδα της διοργάνωσης σε επιλεγμένα σημεία της διαδρομής θα υπάρχουν Εθελοντικές Διασωστικές Ομάδες\, εθελοντές γιατροί και ασθενοφόρο που θα καλύπτουν τον αγώνα. Από τους διοργανωτές δε θα ζητηθούν ιατρικές βεβαιώσεις για κανένα αθλητή/τρια\, αφού όλοι οι συμμετέχοντες/σες αγωνίζονται με δική τους αποκλειστική ευθύνη. \nΤΡΟΠΟΠΟΙΗΣΗ ΚΑΝΟΝΙΣΜΩΝ \nΗ οργάνωση διατηρεί το δικαίωμα τροποποίησης των παρόντων κανονισμών διεξαγωγής του αγώνα χωρίς προηγούμενη ενημέρωση αν αυτό κριθεί απαραίτητο. Σε καμία περίπτωση η οποιαδήποτε αλλαγή δεν θα αλλοιώνει το ύφος του αγώνα. \nΤΡΟΠΟΠΟΙΗΣΗ ΔΙΑΔΡΟΜΗΣ \nΟ διοργανωτής μπορεί να αλλάξει ή να τροποποιήσει τις διαδρομές αν για οποιονδήποτε λόγο υπάρχει κίνδυνος για την ασφάλεια των αθλητών. Επίσης μπορεί να καθυστερήσει την έναρξη ή και να ματαιώσει ή αναβάλλει τον αγώνα λόγω κακοκαιρίας ή για οποιαδήποτε άλλη αιτία. \nΑΝΕΦΟΔΙΑΣΜΟΣ \nΣτον δρόμο των 20.900 μέτρων θα υπάρχουν 5 σταθμοί ανεφοδιασμού όπου οι δρομείς θα βρούν: \n\nστον 1ο Σταθμό (3\,5χλμ.) νερό και ισοτονικό\nστον 2ο Σταθμό (5\,5 χλμ.) νερό και ισοτονικό\nστον 3ο Σταθμό (8 χλμ.) νερό\, cocacola\, μπανάνα\, σοκολάτα\nστον 4ο Σταθμό11 χλμ.) νερό\, ισοτονικά\, μπάρες και σοκολάτα\nστον 5ο (14 χλμ.) και στον 6ο (19 χλμ.) Σταθμό μόνο νερό\n\nΣτο δρόμο των 5.300 μέτρων στο 3ο χιλιόμετρο της διαδρομής οι δρομείς θα βρουν νερό και ισοτονικό \nΣτον τερματισμό θα έχουμε φρούτα\, χυμό\, μπανάνα και το τοπικό ΜΠΟΥΛΟΥΓΟΥΡΙ που με μεράκι θα παρασκευάσουν οι κάτοικοι της Περαχώρας. \nΔήλωση συμμετοχής : Η δήλωση συμμετοχής στον αγώνα μπορεί να γίνει με ηλεκτρονική μορφή στο site του αγώνα https://athlosenergeia.wordpress.com/ όπου υπάρχει σχετική φόρμα. \nΚΟΣΤΟΣ \nΗ οικονομική συνεισφορά του αθλητή είναι 10 € για τον δρόμο των 20.900 μέτρων και 5 € για τον δρόμο των 5.300 μέτρων και καταβάλλεται στην Τράπεζα Πειραιώς και στο όνομα του συνδιοργανωτή συλλόγου «Ένωση Φίλων Αρχαιολογικού Μουσείου Περαχώρας»\, αριθ. Λογαριασμού GR0901725230005523077994735. Ως αιτιολογία να αναγράφεται το όνομα του συμμετέχοντα δρομέα. \nΠαραλαβή Αριθμών \nΗ παραλαβή των αριθμών των συμμετεχόντων θα γίνεται από το Σαββάτου βράδυ στο pasta patry στην Περαχώρα και στην αφετηρία την ημέρα του αγώνα. \nΌσα παιδιά συμμετάσχουν στον αγώνα των 800 μέτρων τεκμαίρεται ότι συμμετέχουν με την συναίνεση των γονέων τους\, και ως εκ τούτου η Οργανωτική Επιτροπή δεν φέρει καμία ευθύνη σε περίπτωση τραυματισμού. Επίσης η συμμετοχή στον παραπάνω αγώνα συνιστά εκ μέρους των γονέων\, όσων παιδιών συμμετάσχουν\, αποδοχή του συγκεκριμένου όρου. \nΘα υπάρχει φωτογραφική κάλυψη στον αγώνα και οι φωτογραφίες θα διατεθούν δωρεάν μέσω της ιστοσελίδας του αγώνα \nΟι διοργανωτές απεκδύονται κάθε ευθύνης για καταστροφή\, κλοπή\, απώλεια κ.τ.λ. της προσωπικής περιουσίας των συμμετεχόντων. Οι συμμετέχοντες δεν θα έχουν το δικαίωμα να στραφούν κατά των διοργανωτών για οποιαδήποτε καταστροφή\, που μπορεί να προκληθεί στον εξοπλισμό τους ή το όχημα τους. \nΓια οποιαδήποτε πληροφορία επικοινωνήστε με τους υπεύθυνους αγώνων Δημήτριο Καραχρήστο τηλ. 6936676798\, Ντίνα Ράπτη τηλ. 6937363330 \n\n  \n\n \n\nΜΑΤΑΙΩΣΗ διεξαγωγής των αγώνων «Άθλος + Ενέργεια» 2020 \nH Οργανωτική Επιτροπή του «Άθλος+Ενέργεια» λαμβάνοντας υπόψη τις ανακοινώσεις της κυβέρνησης που επιβάλλουν συνεχώς νέα περιοριστικά μέτρα\, το αίσθημα αβεβαιότητας που επικρατεί\, μα κυρίως τις επιφυλάξεις και τους προβληματισμούς αθλητών και εθελοντών\, με λύπη ανακοινώνει τη ματαίωση των αγώνων που ήταν προγραμματισμένοι για την Κυριακή 4 Οκτωβρίου 2020. \nΟΙ αγώνες αυτής της μορφής είναι εκδηλώσεις που πρέπει να διέπονται μόνο από αθλητικούς κανόνες και τις χαίρονται αθλητές και εθελοντές\, και όχι να διεξάγονται υπό προϋποθέσεις και περιορισμούς. \nΖητάμε την κατανόηση των αθλητών/τριών\, ευχαριστούμε για την πρόθεση συμμετοχής τους και τους υποσχόμαστε να ανταποδώσουμε με μια άρτια διοργάνωση το 2021\, υγιείς κάτω από καλύτερες συνθήκες. \nΓια το “ΑΘΛΟΣ+ΕΝΕΡΓΕΙΑ“ \nΗ Οργανωτική Επιτροπή \n
URL:https://loutraki.gov.gr/event/athlosenergeia-2020/
LOCATION:1ο χλμ ΕΟ Λουτρακίου - Περαχώρας\, ΛΟΥΤΡΑΚΙ\, Κορινθια\, 20300\, Ελλάδα
GEO:37.949762;22.98829
X-APPLE-STRUCTURED-LOCATION;VALUE=URI;X-ADDRESS=1ο χλμ ΕΟ Λουτρακίου - Περαχώρας ΛΟΥΤΡΑΚΙ Κορινθια 20300 Ελλάδα;X-APPLE-RADIUS=500;X-TITLE=1ο χλμ ΕΟ Λουτρακίου - Περαχώρας:geo:22.98829,37.949762
CATEGORIES:Περιβαλλοντικές,Αθλητικές
ATTACH;FMTTYPE=image/jpeg:https://loutraki.gov.gr/wp-content/uploads/2020/01/117352268_2421107614851012_7781590009696078963_o.jpg
END:VEVENT
END:VCALENDAR