BEGIN:VCALENDAR
VERSION:2.0
PRODID:-//Δήμος Λουτρακίου - ECPv4.6.12//NONSGML v1.0//EN
CALSCALE:GREGORIAN
METHOD:PUBLISH
X-WR-CALNAME:Δήμος Λουτρακίου
X-ORIGINAL-URL:https://loutraki.gov.gr
X-WR-CALDESC:Events for Δήμος Λουτρακίου
BEGIN:VEVENT
DTSTART;TZID=Europe/Athens:20240419T080000
DTEND;TZID=Europe/Athens:20240421T170000
DTSTAMP:20260422T210551
CREATED:20240418T143142Z
LAST-MODIFIED:20240418T143142Z
UID:29446-1713513600-1713718800@loutraki.gov.gr
SUMMARY:ΑΝΟΚ MARATHON MAVER DAY ΛΟΥΤΡΑΚΙ
DESCRIPTION:Ο Αθλητικός Ναυτικός Όμιλος Καρύστου (ΑΝΟΚ) διοργανώνει το ΑΝΟΚ MARATHON MAVER DAY ΛΟΥΤΡΑΚΙ αγώνα αλιείας από την ακτή με μηχανισμό σε ζευγάρια. \nΤο Διεθνές Τουρνουά Αλιείας θα διεξαχθεί το 3ήμερο από 19 έως 21 Απριλίου 2024\, στην παραλία Λουτρακίου. \n  \n \n \n
URL:https://loutraki.gov.gr/event/anok-marathon-maver-day-loytraki/
LOCATION:Λουτράκι\, Λουτράκι\, 20300
GEO:37.9759033;22.9774589
X-APPLE-STRUCTURED-LOCATION;VALUE=URI;X-ADDRESS=Λουτράκι Λουτράκι 20300;X-APPLE-RADIUS=500;X-TITLE=Λουτράκι:geo:22.9774589,37.9759033
CATEGORIES:Αθλητικές
ATTACH;FMTTYPE=image/jpeg:https://loutraki.gov.gr/wp-content/uploads/2024/04/tournoua-alieias-loutraki-1024x824.jpg
END:VEVENT
END:VCALENDAR