BEGIN:VCALENDAR
VERSION:2.0
PRODID:-//Δήμος Λουτρακίου - ECPv4.6.12//NONSGML v1.0//EN
CALSCALE:GREGORIAN
METHOD:PUBLISH
X-WR-CALNAME:Δήμος Λουτρακίου
X-ORIGINAL-URL:https://loutraki.gov.gr
X-WR-CALDESC:Events for Δήμος Λουτρακίου
BEGIN:VEVENT
DTSTART;TZID=Europe/Athens:20250604T090000
DTEND;TZID=Europe/Athens:20250604T130000
DTSTAMP:20260421T231842
CREATED:20250528T062740Z
LAST-MODIFIED:20250528T062740Z
UID:31671-1749027600-1749042000@loutraki.gov.gr
SUMMARY:54η Εθελοντική Αιμοδοσία
DESCRIPTION:Δίνουμε αίμα\, σώζουμε ζωές! \n\nΤην Τετάρτη 4 Ιουνίου 2025\, από τις 09:00 έως τις 13:00\, σας περιμένουμε στο Κέντρο Υγείας Λουτρακίου για την 54η Εθελοντική Αιμοδοσία της Δημοτικής Τράπεζας Αίματος του Δήμος Λουτρακίου – Περαχώρας – Αγίων Θεοδώρων.\nΜια στάλα αίμα\, ένας ωκεανός βοήθειας.\nΈλα κι εσύ! Χάρισε ελπίδα σε κάποιον που την έχει ανάγκη. \n
URL:https://loutraki.gov.gr/event/54i-ethelontiki-aimodosia/
LOCATION:Τέρμα Καραϊσκάκη & Περικλέους\, ΛΟΥΤΡΑΚΙ\, Κορινθίας\, 20300\, Ελλάδα
GEO:37.972405;22.9816377
X-APPLE-STRUCTURED-LOCATION;VALUE=URI;X-ADDRESS=Τέρμα Καραϊσκάκη & Περικλέους ΛΟΥΤΡΑΚΙ Κορινθίας 20300 Ελλάδα;X-APPLE-RADIUS=500;X-TITLE=Τέρμα Καραϊσκάκη & Περικλέους:geo:22.9816377,37.972405
CATEGORIES:Υγείας
ATTACH;FMTTYPE=image/jpeg:https://loutraki.gov.gr/wp-content/uploads/2025/05/500416073_1138977754930409_8744997949019988154_n.jpg
END:VEVENT
END:VCALENDAR