BEGIN:VCALENDAR
VERSION:2.0
PRODID:-//Δήμος Λουτρακίου - ECPv4.6.12//NONSGML v1.0//EN
CALSCALE:GREGORIAN
METHOD:PUBLISH
X-WR-CALNAME:Δήμος Λουτρακίου
X-ORIGINAL-URL:https://loutraki.gov.gr
X-WR-CALDESC:Events for Δήμος Λουτρακίου
BEGIN:VEVENT
DTSTART;TZID=Europe/Athens:20211201T090000
DTEND;TZID=Europe/Athens:20211201T130000
DTSTAMP:20260423T195754
CREATED:20211125T114212Z
LAST-MODIFIED:20211125T114212Z
UID:24926-1638349200-1638363600@loutraki.gov.gr
SUMMARY:47η Εθελοντική Αιμοδοσία
DESCRIPTION: Αίμα\, Δώρο Ζωής\n Αξίζει τα πάντα\, δεν κοστίζει τίποτα\n
URL:https://loutraki.gov.gr/event/47i-ethelontiki-aimodosia/
LOCATION:Τέρμα Καραϊσκάκη & Περικλέους\, ΛΟΥΤΡΑΚΙ\, Κορινθίας\, 20300\, Ελλάδα
GEO:37.972405;22.9816377
X-APPLE-STRUCTURED-LOCATION;VALUE=URI;X-ADDRESS=Τέρμα Καραϊσκάκη & Περικλέους ΛΟΥΤΡΑΚΙ Κορινθίας 20300 Ελλάδα;X-APPLE-RADIUS=500;X-TITLE=Τέρμα Καραϊσκάκη & Περικλέους:geo:22.9816377,37.972405
CATEGORIES:Υγείας
END:VEVENT
END:VCALENDAR