BEGIN:VCALENDAR
VERSION:2.0
PRODID:-//Δήμος Λουτρακίου - ECPv4.6.12//NONSGML v1.0//EN
CALSCALE:GREGORIAN
METHOD:PUBLISH
X-WR-CALNAME:Δήμος Λουτρακίου
X-ORIGINAL-URL:https://loutraki.gov.gr
X-WR-CALDESC:Events for Δήμος Λουτρακίου
BEGIN:VEVENT
DTSTART;TZID=Europe/Athens:20191202T160000
DTEND;TZID=Europe/Athens:20191202T193000
DTSTAMP:20260424T101413
CREATED:20191128T105917Z
LAST-MODIFIED:20191128T111110Z
UID:19030-1575302400-1575315000@loutraki.gov.gr
SUMMARY:43η Αιμοδοσία
DESCRIPTION:?Δώσε ΑΙΜΑ\n?Μοίρασε ΕΛΠΙΔΑ\n❤️Σώσε μια ΖΩΗ\n4.00 μ.μ. – 7.30 μ.μ. στο Κέντρο Υγείας Λουτρακίου\nΣύλλογος Εργαζομένων του Δήμου\nΔήμος Λουτρακίου – Περαχώρας – Αγίων Θεοδώρων \n \n
URL:https://loutraki.gov.gr/event/43i-aimodosia/
LOCATION:Τέρμα Καραϊσκάκη & Περικλέους\, ΛΟΥΤΡΑΚΙ\, Κορινθίας\, 20300\, Ελλάδα
GEO:37.972405;22.9816377
X-APPLE-STRUCTURED-LOCATION;VALUE=URI;X-ADDRESS=Τέρμα Καραϊσκάκη & Περικλέους ΛΟΥΤΡΑΚΙ Κορινθίας 20300 Ελλάδα;X-APPLE-RADIUS=500;X-TITLE=Τέρμα Καραϊσκάκη & Περικλέους:geo:22.9816377,37.972405
CATEGORIES:Υγείας
ATTACH;FMTTYPE=image/jpeg:https://loutraki.gov.gr/wp-content/uploads/2019/11/ΠΡΟΣΚΛΗΣΗ-1.jpg
END:VEVENT
END:VCALENDAR