BEGIN:VCALENDAR
VERSION:2.0
PRODID:-//Δήμος Λουτρακίου - ECPv4.6.12//NONSGML v1.0//EN
CALSCALE:GREGORIAN
METHOD:PUBLISH
X-WR-CALNAME:Δήμος Λουτρακίου
X-ORIGINAL-URL:https://loutraki.gov.gr
X-WR-CALDESC:Events for Δήμος Λουτρακίου
BEGIN:VEVENT
DTSTART;TZID=Europe/Athens:20250531T150000
DTEND;TZID=Europe/Athens:20250531T213000
DTSTAMP:20260421T214922
CREATED:20250520T095514Z
LAST-MODIFIED:20250520T095514Z
UID:31607-1748703600-1748727000@loutraki.gov.gr
SUMMARY:40α ΘΩΔΕΙΑ 2025
DESCRIPTION:Ο Α.Ο Ποσειδών Λουτρακίου και η ΕΑΣ ΣΕΓΑΣ Περιφέρειας Πελοποννήσου σε συνεργασία με τον Δήμος Λουτρακίου – Περαχώρας – Αγίων Θεοδώρων σας προσκαλούν στους ιστορικούς αγώνες στίβου\, «40α ΘΩΔΕΙΑ 2025». \n📍 Θώδειο Στάδιο Λουτρακίου\n📅 Σάββατο 31 Μαΐου | 🕒 15:00 – 21:30\n📌 Από τις 15:00 έως 17:00 θα διεξαχθεί και η Γ’ φάση των Διασυλλογικών αγώνων Κ14. \n👥 Ο Α.Ο Ποσειδών Λουτρακίου καλεί εθελοντές να συνδράμουν στην ομαλή διεξαγωγή των αγώνων π.χ. υποδοχή και εγγραφή των συμμετεχόντων\, βοήθεια στους σταθμούς ενυδατώσεως\, απονομές\, διατήρηση της τάξης και ασφάλειας\, αλλά και υποστήριξη στους αθλητές και στο κοινό. \n➡️ Δήλωσε συμμετοχή: \n\nΣτις ώρες προπονήσεων\, διά ζώσης\n☎️ Στο τηλέφωνο 6936127079\n✨ Γίνε κι εσύ μέρος της μεγάλης αυτής διοργάνωσης!\n\n\n\n\n
URL:https://loutraki.gov.gr/event/40a-thodeia-2025/
LOCATION:Στάδιο Λουτρακίου\, ΛΟΥΤΡΑΚΙ\, 20300\, Ελλάδα
GEO:37.9660214;22.9792319
X-APPLE-STRUCTURED-LOCATION;VALUE=URI;X-ADDRESS=Στάδιο Λουτρακίου ΛΟΥΤΡΑΚΙ 20300 Ελλάδα;X-APPLE-RADIUS=500;X-TITLE=Στάδιο Λουτρακίου:geo:22.9792319,37.9660214
CATEGORIES:Αθλητικές
ATTACH;FMTTYPE=image/jpeg:https://loutraki.gov.gr/wp-content/uploads/2025/05/ΘΩΔΕΙΑ.jpg
END:VEVENT
END:VCALENDAR