BEGIN:VCALENDAR
VERSION:2.0
PRODID:-//Δήμος Λουτρακίου - ECPv4.6.12//NONSGML v1.0//EN
CALSCALE:GREGORIAN
METHOD:PUBLISH
X-WR-CALNAME:Δήμος Λουτρακίου
X-ORIGINAL-URL:https://loutraki.gov.gr
X-WR-CALDESC:Events for Δήμος Λουτρακίου
BEGIN:VEVENT
DTSTART;TZID=Europe/Athens:20240602T090000
DTEND;TZID=Europe/Athens:20240602T183000
DTSTAMP:20260422T004046
CREATED:20240604T094454Z
LAST-MODIFIED:20240604T094454Z
UID:29750-1717318800-1717353000@loutraki.gov.gr
SUMMARY:39α ΘΩΔΕΙΑ | Αγώνες Στίβου
DESCRIPTION: \nΟ Α.Ο. Ποσειδών Λουτρακίου και η ΕΑΣ ΣΕΓΑΣ Περιφέρειας Πελοποννήσου σε συνεργασία με τον Δήμο Λουτρακίου – Περαχώρας – Αγίων Θεοδώρων προκηρύσσουν αγώνες στίβου με την επωνυμία «39α ΘΩΔΕΙΑ 2024» \, οι οποίοι θα διεξαχθούν σύμφωνα με τους παρακάτω όρους:  \n1. Ημερομηνία: Κυριακή 2 Ιουνίου 2024  \n2. Τόπος τέλεσης: Θώδειο Δημοτικό Στάδιο Λουτρακίου  \n3. Αγωνίσματα:  \nΚΑΤΗΓΟΡΙΑ ΑΓΩΝΙΣΜΑ ΚΟΡΙΤΣΙΑ Κ14 Σφυροβολία (ΔΑΚ ΤΡΙΠΟΛΗΣ). ΚΟΡΙΤΣΙΑ Κ16 80μ.\, 150μ\, 300μ\,1000μ\,3χλμ Βάδην\, Τετραπλούν\, Σφαίρα\, 4 Χ 80μ\, Μήκος\, Σφυροβολία – Δίσκος (ΔΑΚ ΤΡΙΠΟΛΗΣ) ΑΓΟΡΙΑ Κ16 80μ.\, 4 χ 80μ\, Μήκος\, Ύψος\, Δίσκος (ΔΑΚ ΤΡΙΠΟΛΗΣ) ΑΝΔΡΩΝ Κ18 100μ\, 200μ\, Ύψος\, Σφαίρα\, Σφυροβολία\, Δίσκος (ΔΑΚ ΤΡΙΠΟΛΗΣ) ΓΥΝΑΙΚΩΝ Κ18 100μ\, 200μ\,Ύψος\, Τριπλούν\, Σφαίρα\, Σφυροβολία\, Δίσκος (ΔΑΚ ΤΡΙΠΟΛΗΣ) Γυναικών 100μ.\, 200μ.\, 1500μ\, Ύψος\, Μήκος \, Ακόντιο\, 4 Χ 100μ.\, Σφυροβολία (ΔΑΚ ΤΡΙΠΟΛΗΣ) Ανδρών 100μ.\, 200μ\, 4 Χ 100μ.\, Ακόντιο 39α ΘΩΔΕΙΑ 2024  \nΝΕΟ ΩΡΟΛΟΓΙΟ ΠΡΟΓΡΑΜΜΑ ΘΩΔΕΙΟ ΔΗΜΟΤΙΚΟ ΣΤΑΔΙΟ ΛΟΥΤΡΑΚΙΟΥ ΚΥΡΙΑΚΗ 2 Ιουνίου 2024 ΔΑΚ Τρίπολης για τα πρωϊνά αγωνίσματα ΩΡΑ ΔΡΟΜΟΙ ΑΛΜΑΤΑ ΡΙΨΕΙΣ 9:30 ΣΦΥΡΟΒΟΛΙΑ Κ14 ΚΟΡΙΤΣΙΑ (ΔΑΚ Τρίπολης) 10;00 ΣΦΥΡΟΒΟΛΙΑ Κ16-Κ18 Γ 11;00 ΣΦΥΡΟΒΟΛΙΑ Γ 11:30 ΣΦΥΡΟΒΟΛΙΑ Κ18 Α 12:00 ΔΙΣΚΟΒΟΛΙΑ Κ16 – Κ18 Γ 12:30 ΔΙΣΚΟΒΟΛΙΑ Κ16 – Κ18 Α 15:00 80μ. Κ16 ΚΟΡΙΤΣΙΑ ΤΕΤΡΑΠΛΟΥΝ Κ16 ΚΟΡΙΤΣΙΑ ΣΦΑΙΡΟΒΟΛΙΑ Κ16 Κ + Κ18 Γ 15:30 80μ. Κ16 ΑΓΟΡΙΑ 15:50 100μ Γ Κ18 ΎΨΟΣ Κ16 ΑΓΟΡΙΩΝ – Κ18 Α 16:15 100μ Γ ΣΦΑΙΡΟΒΟΛΙΑ Κ16 ΑΓΟΡΙΑ – ΣΦΑΙΡΟΒΟΛΙΑ Γ 16:40 100μ Α Κ18 ΜΗΚΟΣ Κ16 ΚΟΡΙΤΣΙΑ 17:00 100μ Α 17:20 150μ Κ16 ΚΟΡΙΤΣΙΑ ΎΨΟΣ Κ16 ΚΟΡΙΤΣΙΑ ΑΚΟΝΤΙΣΜΟΣ Α 17:45 300μ Κ16 ΚΟΡΙΤΣΙΑ 18:10 1000μ Κ16 ΚΟΡΙΤΣΙΑ ΜΗΚΟΣ Κ16 ΑΓΟΡΙΑ ΣΦΑΙΡΟΒΟΛΙΑ Κ18 Α 18:25 1500μ Γ 18:40 200μ Γ Κ18 19:00 200μ Γ ΥΨΟΣ Κ18 Γ ΑΚΟΝΤΙΣΜΟΣ Γ 19:20 200μ Α Κ18 ΤΡΠΛΟΥΝ Γ – Κ18 Γ 19:45 200μ Α 20:05 3 ΧΙΛ ΒΑΔΗΝ Κ16 Κ 20:30 4Χ80μ. Κ16 ΚΟΡΙΤΣΙΑ ΜΗΚΟΣ ΓΥΝΑΙΚΩΝ 20:45 4Χ80μ. Κ16 ΑΓΟΡΙΑ 21:00 4 Χ 100μ Γ 21:15 4 Χ 100μ Α \n  \n\n  \n
URL:https://loutraki.gov.gr/event/39a-thodeia-agones-stivoy/
LOCATION:Στάδιο Λουτρακίου\, ΛΟΥΤΡΑΚΙ\, 20300\, Ελλάδα
GEO:37.9660214;22.9792319
X-APPLE-STRUCTURED-LOCATION;VALUE=URI;X-ADDRESS=Στάδιο Λουτρακίου ΛΟΥΤΡΑΚΙ 20300 Ελλάδα;X-APPLE-RADIUS=500;X-TITLE=Στάδιο Λουτρακίου:geo:22.9792319,37.9660214
CATEGORIES:Αθλητικές
ATTACH;FMTTYPE=image/png:https://loutraki.gov.gr/wp-content/uploads/2024/06/ΘΩΔΕΙΑ-2024-547x768.png
END:VEVENT
END:VCALENDAR