BEGIN:VCALENDAR
VERSION:2.0
PRODID:-//Δήμος Λουτρακίου - ECPv4.6.12//NONSGML v1.0//EN
CALSCALE:GREGORIAN
METHOD:PUBLISH
X-WR-CALNAME:Δήμος Λουτρακίου
X-ORIGINAL-URL:https://loutraki.gov.gr
X-WR-CALDESC:Events for Δήμος Λουτρακίου
BEGIN:VEVENT
DTSTART;TZID=Europe/Athens:20220522T110000
DTEND;TZID=Europe/Athens:20220522T123000
DTSTAMP:20260423T092911
CREATED:20220519T111306Z
LAST-MODIFIED:20220519T112841Z
UID:25775-1653217200-1653222600@loutraki.gov.gr
SUMMARY:ΤΕΛΕΤΗ ΜΝΗΜΗΣ ΠΕΣΟΝΤΩΝ
DESCRIPTION:\nΟ Δήμαρχος Λουτρακίου- Περαχώρας- Αγίων Θεοδώρων\nκαι ο Πρόεδρος Δημοτικής Κοινότητας Αγίων Θεοδώρων\nσας προσκαλούν\nτην Κυριακή 22 Μαΐου 2022 και ώρα 11.00 π.μ.\nστην τελετή μνήμης\, \nμε σκοπό να αποδοθεί ο ελάχιστος φόρος τιμής στους 50 Έλληνες Πατριώτες\,\nθύματα των γερμανικών στρατευμάτων Κατοχής τον Μάιο του 1944.\n \n\n\nΗ τελετή θα πραγματοποιηθεί\nστον ειδικό χώρο του μνημείου \nπου βρίσκεται στη Δημοτική Κοινότητα Αγίων Θεοδώρων.\n \n\n\nΟ Πρόεδρος Δ.Κ. Αγίων Θεοδώρων\,\nΚωνσταντής – Σκουλικαρίτης Αριστείδης\n \nΟ Δήμαρχος\,\nΓεώργιος Αλκ. Γκιώνης\n\n
URL:https://loutraki.gov.gr/event/25775/
ATTACH;FMTTYPE=image/jpeg:https://loutraki.gov.gr/wp-content/uploads/2022/05/Τελετή-Μνήμης-50_2022-1.jpg
END:VEVENT
END:VCALENDAR