BEGIN:VCALENDAR
VERSION:2.0
PRODID:-//Δήμος Λουτρακίου - ECPv4.6.12//NONSGML v1.0//EN
CALSCALE:GREGORIAN
METHOD:PUBLISH
X-WR-CALNAME:Δήμος Λουτρακίου
X-ORIGINAL-URL:https://loutraki.gov.gr
X-WR-CALDESC:Events for Δήμος Λουτρακίου
BEGIN:VEVENT
DTSTART;TZID=Europe/Athens:20220413T200000
DTEND;TZID=Europe/Athens:20220413T220000
DTSTAMP:20260423T182305
CREATED:20220405T102911Z
LAST-MODIFIED:20220405T103010Z
UID:25543-1649880000-1649887200@loutraki.gov.gr
SUMMARY:Μεγάλη Εβδομάδα | Ύμνοι και Ποίηση
DESCRIPTION: \nΤετάρτη 13 Απριλίου 2022 | ώρα 8.00 μ.μ.\nΠνευματικό Κέντρο Περαχώρας\n\n
URL:https://loutraki.gov.gr/event/25543/
LOCATION:Περαχώρα\, Λουτράκι\, Κορινθία\, 20300\, Ελλάδα
GEO:38.0301124;22.9485075
X-APPLE-STRUCTURED-LOCATION;VALUE=URI;X-ADDRESS=Περαχώρα Λουτράκι Κορινθία 20300 Ελλάδα;X-APPLE-RADIUS=500;X-TITLE=Περαχώρα:geo:22.9485075,38.0301124
CATEGORIES:Θρησκευτικές
ATTACH;FMTTYPE=image/jpeg:https://loutraki.gov.gr/wp-content/uploads/2022/04/13042022.jpg
END:VEVENT
END:VCALENDAR