BEGIN:VCALENDAR
VERSION:2.0
PRODID:-//Δήμος Λουτρακίου - ECPv4.6.12//NONSGML v1.0//EN
CALSCALE:GREGORIAN
METHOD:PUBLISH
X-WR-CALNAME:Δήμος Λουτρακίου
X-ORIGINAL-URL:https://loutraki.gov.gr
X-WR-CALDESC:Events for Δήμος Λουτρακίου
BEGIN:VEVENT
DTSTART;TZID=Europe/Athens:20210926T200000
DTEND;TZID=Europe/Athens:20210926T220000
DTSTAMP:20260423T210636
CREATED:20210909T111928Z
LAST-MODIFIED:20210922T073037Z
UID:24363-1632686400-1632693600@loutraki.gov.gr
SUMMARY:Η Μάχη της Περαχώρας
DESCRIPTION:Στο πλαίσιο των εορτασμών των 200 χρόνων από την Ελληνική Επανάσταση αλλά και των 60 χρόνων λειτουργίας της Φιλαρμονικής Λουτρακίου\, ο Δήμος Λουτρακίου – Περαχώρας – Αγίων Θεοδώρων ανέθεσε στο διακεκριμένο αρχιμουσικό της Παλαιάς Φιλαρμονικής Κερκύρας και συνθέτη Σπύρο Προσωπάρη\, τη σύνθεση ενός πρωτότυπου συμφωνικού μουσικού έργου για την ανάδειξη της ιστορικής Μάχης της Περαχώρας.  \nΗ Μάχη της Περαχώρας στις 26 και 27 Σεπτεμβρίου του 1822 αποτελεί μια από τις πιο ένδοξες σελίδες της μακραίωνης τοπικής ιστορίας αλλά και της ευρύτερης περιοχής της. Οι Περαχωρίτες με την παρουσία σπουδαίων αρχηγών της επανάστασης αντιμετώπισαν με επιτυχία στη χερσόνησο της Περαχώρας τους Οθωμανούς του Δράμαλη\, που εγκλωβισμένοι στην Κόρινθο μετά την ήττα τους στα Δερβενάκια\, προσπάθησαν να καταλάβουν την Περαχώρα και στη συνέχεια να διαφύγουν μέσω των Μεγάλων Δερβενίων\, στη Ρούμελη. Στη Μάχη της Περαχώρας αναφέρονται σε επιστολές και στα απομνημονεύματά τους πολλοί από τους διακεκριμένους Αγωνιστές της Εθνεγερσίας του ’21\, γεγονός που αναδεικνύει τη μεγάλη προσφορά της στον αγώνα των επαναστατημένων Ελλήνων για ελευθερία. \nΤο έργο είναι εμπνευσμένο από τη Μάχη της Περαχώρας και τη σημασία της στον απελευθερωτικό αγώνα\, καθώς και από τα γεγονότα που διαδραματίστηκαν την περίοδο εκείνη με την εκστρατεία του Δράμαλη στην Πελοπόννησο. \nΑποτελείται από αφηγηματικά μέρη και συνολικά 18 μουσικά κομμάτια. \nΗ μουσική σύνθεση προορίζεται για Συμφωνική Μπάντα\, Κοντραμπάσο\, Πιάνο\, Μέτζο Σοπράνο\, Βαρύτονο και Μικτή Τετράφωνη Χορωδία με τη συμμετοχή αφηγητή και έχει συνολική διάρκεια 75 λεπτά. \nΗ φιλολογική προσέγγιση και η δημιουργία των πρωτότυπων κείμενων και των ποιημάτων που μελοποιήθηκαν\, ανήκει στο δάσκαλο και ερευνητή\, κ. Νικόλαο Γεωργίου. \nΤο συμφωνικό έργο «Η Μάχη της Περαχώρας» θα παρουσιαστεί σε ειδική τελετή από τη Φιλαρμονική Ορχήστρα Λουτρακίου την Κυριακή 26 Σεπτεμβρίου 2021\, στην Πλατεία Ταξιαρχών στην Περαχώρα\, στο πλαίσιο των εορτασμών της επετείου. Παράλληλα θα ηχογραφηθεί και κινηματογραφηθεί με σκοπό την αναμετάδοση του. \nΜε τη Φιλαρμονική συμπράττει η διεθνούς φήμης mezzo soprano\, Μαίρη Έλεν Νέζη και ο βαρύτονος της Εθνικής Λυρικής Σκηνής\, Διονύσης Σούρμπης. \nΤην αφήγηση του έργου και τις απαγγελίες θα κάνει ο Αλέξης Κωστάλας. \nΣτη συναυλία συμμετέχει η τετράφωνη χορωδία των εκπαιδευτικών μουσικής Αττικής\, Choremus. \n  \nΗ δράση τελεί υπό την αιγίδα του Υπουργείου Πολιτισμού & Αθλητισμού\, της Επιτροπής «Ελλάδα 2021» και της Περιφέρειας Πελοποννήσου. \n——————————— \nΗ χρήση μάσκας από τους θεατές είναι υποχρεωτική σε όλη τη διάρκεια του θεάματος\, από την προσέλευση έως και την αποχώρηση\, και σε όλους τους χώρους. \n——————————— \nΓραφείο Τύπου \n
URL:https://loutraki.gov.gr/event/24363/
ATTACH;FMTTYPE=image/jpeg:https://loutraki.gov.gr/wp-content/uploads/2021/09/cover.jpg
END:VEVENT
END:VCALENDAR