BEGIN:VCALENDAR
VERSION:2.0
PRODID:-//Δήμος Λουτρακίου - ECPv4.6.12//NONSGML v1.0//EN
CALSCALE:GREGORIAN
METHOD:PUBLISH
X-WR-CALNAME:Δήμος Λουτρακίου
X-ORIGINAL-URL:https://loutraki.gov.gr
X-WR-CALDESC:Events for Δήμος Λουτρακίου
BEGIN:VEVENT
DTSTART;TZID=Europe/Athens:20210710T200000
DTEND;TZID=Europe/Athens:20210710T200000
DTSTAMP:20260423T235547
CREATED:20210705T100851Z
LAST-MODIFIED:20210705T101101Z
UID:23865-1625947200-1625947200@loutraki.gov.gr
SUMMARY:Παρουσίαση βιβλίου
DESCRIPTION: Σας προσκαλούμε στην παρουσίαση του βιβλίου του Δημήτρη Στρατούλη:\n«Όταν γεννιέσαι τρεις φορές\, δωρεά οργάνων – δώρο ζωής»\nΣάββατο  Ιουλίου 2021 |  8:00 μ.μ.\n στον κήπο της Δημοτική Βιβλιοθήκη Λουτρακίου (Οικονόμου 3 & Τομπάζη)\nΘα τηρηθούν όλα τα απαραίτητα υγειονομικά μέτρα.\nΜε την αιγίδα του Δήμος Λουτρακίου – Περαχώρας – Αγίων Θεοδώρων\n \n\n
URL:https://loutraki.gov.gr/event/23865/
LOCATION:Οικονόμου 3 & Τομπάζη\, Λουτράκι\, Κορινθία\, 20300\, Ελλάδα
GEO:37.9724674;22.9770054
X-APPLE-STRUCTURED-LOCATION;VALUE=URI;X-ADDRESS=Οικονόμου 3 & Τομπάζη Λουτράκι Κορινθία 20300 Ελλάδα;X-APPLE-RADIUS=500;X-TITLE=Οικονόμου 3 & Τομπάζη:geo:22.9770054,37.9724674
CATEGORIES:Εκπαιδευτικές
ATTACH;FMTTYPE=image/jpeg:https://loutraki.gov.gr/wp-content/uploads/2021/07/10072021_STRATOULIS.jpg
END:VEVENT
END:VCALENDAR