BEGIN:VCALENDAR
VERSION:2.0
PRODID:-//Δήμος Λουτρακίου - ECPv4.6.12//NONSGML v1.0//EN
CALSCALE:GREGORIAN
METHOD:PUBLISH
X-WR-CALNAME:Δήμος Λουτρακίου
X-ORIGINAL-URL:https://loutraki.gov.gr/en
X-WR-CALDESC:Events for Δήμος Λουτρακίου
BEGIN:VEVENT
DTSTART;TZID=Europe/Athens:20220604T093000
DTEND;TZID=Europe/Athens:20220604T203000
DTSTAMP:20260423T154251
CREATED:20220602T093907Z
LAST-MODIFIED:20220602T093907Z
UID:25870-1654335000-1654374600@loutraki.gov.gr
SUMMARY:1ο ΚΥΠΕΛΛΟ «ΙΩΑΝΝΗΣ ΛΑΖΑΡΙΔΗΣ»
DESCRIPTION:Ο Αθλητικός Όμιλος «ΠΟΣΕΙΔΩΝ» Λουτρακίου\, με αφορμή και την επέτειο συμπλήρωσης 60 ετών από την ίδρυση του\, διοργανώνει για πρώτη χρονιά τους αγώνες Προαγωνιστικών Κατηγοριών με την επωνυμία 1ο ΚΥΠΕΛΛΟ «ΙΩΑΝΝΗΣ ΛΑΖΑΡΙΔΗΣ»\, θέλοντας να τιμήσει και να εκφράσει την ευγνωμοσύνη του στο ιδρυτικό μέλος και σύμβουλο του «ΑΟ ΠΟΣΕΙΔΩΝ ΛΟΥΤΡΑΚΙΟΥ» για την πολυετή και ανιδιοτελή προσφορά του\, κ. Ιωάννη Λαζαρίδη. Οι αγώνες θα διεξαχθούν το Σάββατο 4 Ιουνίου 2022 στις εγκαταστάσεις του Ανοικτού Δημοτικού Κολυμβητηρίου Λουτρακίου\, περιλαμβάνονται στο πρόγραμμα της Κ.Ο.Ε. και στηρίζονται από τον Δήμο Λουτρακίου – Περαχώρας – Αγίων Θεοδώρων. \n   \n
URL:https://loutraki.gov.gr/en/event/1o-kypello-ioannis-lazaridis/
LOCATION:κολυμβητήριο Λουτρακίου\, ΛΟΥΤΡΑΚΙ\, 20300\, Ελλάδα
GEO:37.9499057;22.9785734
X-APPLE-STRUCTURED-LOCATION;VALUE=URI;X-ADDRESS=κολυμβητήριο Λουτρακίου ΛΟΥΤΡΑΚΙ 20300 Ελλάδα;X-APPLE-RADIUS=500;X-TITLE=κολυμβητήριο Λουτρακίου:geo:22.9785734,37.9499057
CATEGORIES:Αθλητικές
ATTACH;FMTTYPE=image/jpeg:https://loutraki.gov.gr/wp-content/uploads/2022/06/ΑΦΙΣΑ_ΚΟΛΥΜΒΗΣΗ_Κολυμβητική-Συνάντηση-Προαγωνιστικών-Κατηγοριών_1ο-ΚΥΠΕΛΛΟ-ΙΩΑΝΝΗΣ-ΛΑΖΑΡΙΔΗΣ.jpg
END:VEVENT
END:VCALENDAR