BEGIN:VCALENDAR
VERSION:2.0
PRODID:-//Δήμος Λουτρακίου - ECPv4.6.12//NONSGML v1.0//EN
CALSCALE:GREGORIAN
METHOD:PUBLISH
X-WR-CALNAME:Δήμος Λουτρακίου
X-ORIGINAL-URL:https://loutraki.gov.gr
X-WR-CALDESC:Events for Δήμος Λουτρακίου
BEGIN:VEVENT
DTSTART;TZID=Europe/Athens:20190629T210000
DTEND;TZID=Europe/Athens:20190630T233000
DTSTAMP:20260424T173440
CREATED:20190627T103443Z
LAST-MODIFIED:20190627T103443Z
UID:17907-1561842000-1561937400@loutraki.gov.gr
SUMMARY:18ο Φεστιβάλ Παραδοσιακών χορών  - 6ο Φεστιβάλ Μοντέρνων χορών
DESCRIPTION:Ο Εξωραϊστικός & Εκπολιτιστικός Σύλλογος Ισθμίας ολοκλήρωσε έναν ακόμη κύκλο δραστηριοτήτων και μας προσκαλεί στις εκδηλώσεις του να τιμήσουμε την παράδοση και να απολαύσουμε μια καλοκαιρινή βραδιά!\n18ο Φεστιβάλ Παραδοσιακών χορών \nΣάββατο 29 Ιουνίου και ώρα 9.00 μ.μ.\n6ο Φεστιβάλ Μοντέρνων χορών\nΚυριακή 30 Ιουνίου και ώρα 9.00 μ.μ.\nΜε χορευτικούς Συλλόγους από την Αλμυρή\, τον Αγιο Βασίλη και το Λουτράκι…\nΣτην προβλήτα Ισθμίας!!!!! \n
URL:https://loutraki.gov.gr/event/18o-festival-paradosiakon-choron-6o-festival-monternon-choron/
LOCATION:Ίσθμια\, Κορινθία
GEO:37.9168467;23.006817
CATEGORIES:Πολιτιστικές
ATTACH;FMTTYPE=image/jpeg:https://loutraki.gov.gr/wp-content/uploads/2019/06/65053382_2109241852532508_5469238516099579904_n.jpg
END:VEVENT
END:VCALENDAR