BEGIN:VCALENDAR
VERSION:2.0
PRODID:-//Δήμος Λουτρακίου - ECPv4.6.12//NONSGML v1.0//EN
CALSCALE:GREGORIAN
METHOD:PUBLISH
X-WR-CALNAME:Δήμος Λουτρακίου
X-ORIGINAL-URL:https://loutraki.gov.gr/en
X-WR-CALDESC:Events for Δήμος Λουτρακίου
BEGIN:VEVENT
DTSTART;TZID=Europe/Athens:20250731T180000
DTEND;TZID=Europe/Athens:20250820T233000
DTSTAMP:20260421T154727
CREATED:20250728T090406Z
LAST-MODIFIED:20250728T090406Z
UID:32063-1753984800-1755732600@loutraki.gov.gr
SUMMARY:ΕΚΘΕΣΗ VIDEO ART | TIM OBERSTAETTER
DESCRIPTION: \n
URL:https://loutraki.gov.gr/en/event/ekthesi-video-art-tim-oberstaetter/
LOCATION:Ποσειδώνος 1\, Λουτράκι\, Κορινθία\, 20300
GEO:37.9762688;22.9765313
X-APPLE-STRUCTURED-LOCATION;VALUE=URI;X-ADDRESS=Ποσειδώνος 1 Λουτράκι Κορινθία 20300;X-APPLE-RADIUS=500;X-TITLE=Ποσειδώνος 1:geo:22.9765313,37.9762688
CATEGORIES:
ATTACH;FMTTYPE=image/jpeg:https://loutraki.gov.gr/wp-content/uploads/2025/07/εικόνα_Viber_2025-07-28_11-59-46-254.jpg
END:VEVENT
BEGIN:VEVENT
DTSTART;TZID=Europe/Athens:20250820T090000
DTEND;TZID=Europe/Athens:20250825T170000
DTSTAMP:20260421T154727
CREATED:20250110T103419Z
LAST-MODIFIED:20250110T103443Z
UID:31081-1755680400-1756141200@loutraki.gov.gr
SUMMARY:World Masters Volleyball Cup 2025
DESCRIPTION:Το World Masters Volleyball Cup επιστρέφει δυναμικά για ακόμη μια χρονιά στο SPORTCAMP\, φέρνοντας στο επίκεντρο το πάθος για το βόλεϊ και τη χαρά της συμμετοχής! Το World Masters Volleyball Cup θα πραγματοποιηθεί από τις 20 έως 25 Αυγούστου 2025 με τους Βετεράνους αθλητές να προσφέρουν το καλύτερο εαυτό τους \, δημιουργώντας ένα κλίμα χαράς\, αντάμωσης και έντονου ανταγωνισμού για την κατάκτηση της νίκης. \n \nΑθλητές και αθλήτριες ηλικίας 45 ετών και άνω θα δώσουν τον καλύτερό τους εαυτό σε ένα τουρνουά που συνδυάζει τον ανταγωνισμό με τη φιλία και τη συνεργασία ανάμεσα σε διαφορετικούς ανθρώπους και πολιτισμούς. Η διοργάνωση\, που φιλοξενείται από το SPORTCAMP\, υποστηρίζεται από τον Δήμο Λουτρακίου – Περαχώρας – Αγίων Θεοδώρων και τον Τουριστικό Οργανισμό Λουτρακίου (LTO). \nΗ μακρόχρονη φιλοξενία σημαντικών αθλητικών εκδηλώσεων από το SPORTCAMP και το Λουτράκι καταδεικνύει τη σημασία που δίνεται στο βόλεϊ\, με πολλούς καταξιωμένους αθλητές να έχουν λάβει μέρος σε αυτή τη σειρά εκδηλώσεων. \nΟι ηλικιακές κατηγορίες που θα διαγωνιστούν περιλαμβάνουν: \nΆντρες: 45+ 55+ 60+ 65+ \nΓυναίκες: 45+  55+ 60+ 65+ \nΚάθε χώρα έχει δυνατότητα να λάβει μέρος στο τουρνουά με μία ομάδα ανά φύλο & ηλικιακή κατηγορία. Το roster κάθε ομάδας έχει μέγιστο αριθμό αθλητών τους 14. \nΓια περισσότερες πληροφορίες\, μπορείτε να επικοινωνείτε με τον κο Πελέκη Χαράλαμπο τηλ: 2744023999 ext.140 / 695 7500 792\, e-mail: b.pelekis@sportcamp.gr  \n
URL:https://loutraki.gov.gr/en/event/world-masters-volleyball-cup-2025/
LOCATION:Αύρας\, Λουτράκι\, Κορινθία\, 20300\, Ελλάδα
GEO:37.9768027;22.977169
X-APPLE-STRUCTURED-LOCATION;VALUE=URI;X-ADDRESS=Αύρας Λουτράκι Κορινθία 20300 Ελλάδα;X-APPLE-RADIUS=500;X-TITLE=Αύρας:geo:22.977169,37.9768027
CATEGORIES:Αθλητικές
ATTACH;FMTTYPE=image/png:https://loutraki.gov.gr/wp-content/uploads/2025/01/WORLD-MASTERS-VOLLEYBALL-CUP-2025.png
ORGANIZER;CN="SportCamp":MAILTO:sportcamp@sportcamp.gr
END:VEVENT
BEGIN:VEVENT
DTSTART;TZID=Europe/Athens:20250820T210000
DTEND;TZID=Europe/Athens:20250820T210000
DTSTAMP:20260421T154727
CREATED:20250723T090845Z
LAST-MODIFIED:20250806T102124Z
UID:31999-1755723600-1755723600@loutraki.gov.gr
SUMMARY:Το Όνειρο Ενός Γελοίου
DESCRIPTION:«Το όνειρο ενός γελοίου»  \nΒασισμένο στο κλασσικό αριστούργημα του Φιοντόρ Ντοστογιέφσκι. \n  \nΤο έργο γραµµένο το 1877 µεταφέρεται σε µια θεατρική παράσταση µε µια ρηξικέλευθη\, ηλεκτρισµένη\, σημερινή και επίκαιρη ανάγνωση σε σκηνοθεσία Έλενας Αγγελοπούλου και ερµηνεία Δηµήτρη Μαζιώτη. \nΗ παράσταση φωτίζει την υπαρξιακή αγωνία του ήρωα µε τα εργαλεία του σύγχρονου θεάτρου: ηλεκτρονική µουσική\, διαρκή κίνηση\, έντονο ρυθµό και ηχητικά-κινηµατογραφικά τοπία. \nΈνας σωµατικός µονόλογος γεμάτος ένταση συνοµιλεί µε την ψυχολογία του σύγχρονου ανθρώπου\, που αναζητά μια βαθιά\, ανθρώπινη εμπειρία. \nΟ “Γελοίος” παύει να είναι µόνο ένας λογοτεχνικός ήρωας. Είναι ένας από εµάς.Ένας άνθρωπος του σήµερα\, σε κρίση ταυτότητας\, που βυθίζεται στον θόρυβο του κόσµου και παλεύει να κρατήσει το νήµα της ύπαρξης του. Ένα όνειρο διαλύει την πραγµατικότητα και τον “ξυπνά”. \n  \nΣκηνοθετικό Σηµείωµα \nΈνας άνθρωπος στο περιθώριο\, σχεδόν αόρατος\, έτοιµος να σβήσει — και όµως\, µέσα από το σκοτάδι\, βλέπει το φως. Ένα όνειρο τον ξυπνά και τον µεταµορφώνει. \nΟ εσωτερικός σεισµός του ήρωα ήταν για µένα η αφετηρία. Η σκηνική απόδοση µια αποκάλυψη\, ο λόγος ατόφιος χωρίς να «εικονίζεται». Χτίσαµε µια performance συνείδησης. \nΉχος\, φως\, κίνηση\, εικόνα και ο λόγος του Ντοστογιέφσκι στο κέντρο ζωντανός\, αβυσσαλέος\, λυτρωτικός. \nΤο σώµα του ηθοποιού γίνεται γλώσσα. Τα φώτα µνήµη. Οι ήχοι παλµός. Τα video art ένα εσωτερικό βλέµµα. Ένας κόσµος που θρυµµατίζεται και αναγεννιέται διαρκώς. \nΔηµιουργήσαµε µια παράσταση που θέλουµε να αγγίζει όχι µόνο το µυαλό αλλά και το σώµα του κοινού. Που να µην “ακούγεται” απλώς\, αλλά να “δονείται”. \nΔεν επιχειρούµε να απαντήσουµε στο ερώτηµα του έργου \,όχι γιατί δεν υπάρχει ελπίδα- αλλά γιατί η ελπίδα δεν επιβάλλεται . Προτείνεται .Το µήνυµα του ήρωα δεν είναι απάντηση .Είναι πρόκληση. \n“Η συνείδηση της ζωής είναι ανώτερη απ’ τη ζωή\, η γνώση των νόµων της ευτυχίας είναι ανώτερη από την ευτυχία ”. Αν πολεμήσουμε αυτό\, ο κόσμος μπορεί να γίνει καλύτερος. \n  \n  \nΣΥΝΤΕΛΕΣΤΕΣ \nΣκηνοθεσία: Έλενα Αγγελοπούλου \nΜετάφραση: Βούλα Κοψίνη Γερµανάκου \nΔιασκευή: Έλενα Αγγελοπούλου \, Δηµήτρης Μαζιώτης \nΕρµηνεία: Δηµήτρης Μαζιώτης \nΚίνηση: Φαίδρα Σούτου \nΜουσική Επιµέλεια : Κωνσταντίνος Ρόδης \nΚοστούµια-Σκηνικά: Δηµήτρης Μαζιώτης\,Έλενα Αγγελοπούλου \nΦωτισµοί: Μανώλης Μπράτσης \nΒοηθός Σκηνοθέτη : Ορέστης Παπαϊωάννου \nVideo-Trailer : Thanos Angelis \nCamera : Στάθης Σταθαράς \nΠαραγωγή: Δηµήτρης Μαζιώτης \n  \nΔιάρκεια: 70 λεπτά (χωρίς διάλειµµα) \n  \nΤΕΤΑΡΤΗ 20 ΑΥΓΟΥΣΤΟΥ 2025 | ΘΕΑΤΡΟ ΠΑΝΤΕΛΗΣ ΖΕΡΒΟΣ\, ΛΟΥΤΡΑΚΙ \nΩΡΑ ΕΝΑΡΞΗΣ 21:00 \n  \nΠληροφορίες & Κρατήσεις: dhmeden@hotmail.com- 6977597097-6909638855 \n  \nΗ παράσταση τελεί υπό την αιγίδα του Δήμου Λουτρακίου – Περαχώρας – Αγίων Θεοδώρων. \nΧΟΡΗΓΟΣ : MOTOR OIL \n  \n  \n
URL:https://loutraki.gov.gr/en/event/to-oneiro-enos-geloioy/
LOCATION:Πάρκο Δεξαμενής\, Λουτράκι\, Κορινθία\, 20300\, Ελλάδα
GEO:37.9727548;22.9858004
X-APPLE-STRUCTURED-LOCATION;VALUE=URI;X-ADDRESS=Πάρκο Δεξαμενής Λουτράκι Κορινθία 20300 Ελλάδα;X-APPLE-RADIUS=500;X-TITLE=Πάρκο Δεξαμενής:geo:22.9858004,37.9727548
CATEGORIES:
ATTACH;FMTTYPE=image/jpeg:https://loutraki.gov.gr/wp-content/uploads/2025/07/poster_oneiroGeloiou_1.jpg
END:VEVENT
END:VCALENDAR