BEGIN:VCALENDAR
VERSION:2.0
PRODID:-//Δήμος Λουτρακίου - ECPv4.6.12//NONSGML v1.0//EN
CALSCALE:GREGORIAN
METHOD:PUBLISH
X-WR-CALNAME:Δήμος Λουτρακίου
X-ORIGINAL-URL:https://loutraki.gov.gr/en
X-WR-CALDESC:Events for Δήμος Λουτρακίου
BEGIN:VEVENT
DTSTART;TZID=Europe/Athens:20250730T210000
DTEND;TZID=Europe/Athens:20250730T230000
DTSTAMP:20260422T222051
CREATED:20250703T123746Z
LAST-MODIFIED:20250703T130439Z
UID:31945-1753909200-1753916400@loutraki.gov.gr
SUMMARY:«Το Κυνήγι του ΑΛΗΘΙΝΟΥ Θησαυρού»
DESCRIPTION:Το Θέατρο Μαριονέτας “ΓΚΟΤΣΗ” σας καλωσορίζει σε μαγικά ταξίδια στον κόσμο της μαριονέτας \n  \n«Το Κυνήγι του ΑΛΗΘΙΝΟΥ Θησαυρού» \nΤους θησαυρούς που αναζητείς \nμες στην ψυχή σου θα τους βρεις. \nΜε υπομονή κι επιμονή \nκαι την καρδιά σου ανοιχτή. \n  \nΗ δασκάλα του χωριού οργανώνει για τα παιδιά του σχολείου «το κυνήγι του θησαυρού». Τρεις φίλοι\, η Αϊσέ\, η Καλλιόπη και ο Νικόλας πιστεύουν ότι υπάρχει χρυσός κρυμμένος κάπου στο χωριό. Μέσα από περιπέτειες και αστείες καταστάσεις θα ανακαλύψουν τον ΑΛΗΘΙΝΟ θησαυρό… \n  \nΜια παράσταση γεμάτη συναισθήματα\, γέλιο\, περιπέτεια\, αλλά και μηνύματα για τη διαφορετικότητα\, την αγάπη\, τη φιλία\, την οικογένεια\, τη συνεργασία! \n  \nΧειροποίητες μεγάλες μαριονέτες\, γνωστοί ηθοποιοί\,  φανταστικά κουστούμια\, πλούσια σκηνικά\, γέλιο και μηνύματα για παιδιά και μεγάλους! \n  \nΜε τις φωνές των:  \nΘΑΝΑΣΗ ΤΣΑΛΤΑΜΠΑΣΗ \nΖΗΣΗ ΡΟΥΜΠΟ \nΑΚΟΥΓΟΝΤΑΙ ΕΠΙΣΗΣ: Μαρίλια Νομικού\, Παναγιώτα Μωυσιάδου\, Λένα Δεναξά\, Αιμιλία Βασιλακάκη.  Η ηχογράφηση έγινε στο Zero Gravity Studios. \nΔΙΑΡΚΕΙΑ ΕΡΓΟΥ: 60΄ λεπτά   KEIMENA: Παναγιώτα Μωυσιάδου  ΣΚΗΝΟΘΕΣΙΑ: Θανάσης Γκότσης  ΜΟΥΣΙΚΗ: Δημήτρης Σινογιάννης  ΤΡΑΓΟΥΔΙΑ: Μαρίλια Νομικού\, Νικόλας Γκότσης  ΜΑΚΙΓΙΑΖ: Μίνα Μαυρομάτη  ΚΟΥΣΤΟΥΜΙΑ: Ειρήνη Γκότση   ΣΚΗΝΙΚΑ: Τάκης Αγραπιδάκης\, ΔΗΜΟΣΙΕΣ ΣΧΕΣΕΙΣ: Κέλλυ Χατζοπούλου – Σχοινά  ΚΑΤΑΣΚΕΥΗ ΜΑΡΙΟΝΕΤΩΝ: Θανάσης Γκότσης \n  \nΤετάρτη 30 Ιουλίου 21:00  στο Θέατρο «ΠΑΝΤΕΛΗΣ ΖΕΡΒΟΣ»  \n(πάρκο Δεξαμενής στο Λουτράκι) \nΗ παράσταση τελεί υπό την αιγίδα του Δήμου Λουτρακίου – Περαχώρας – Αγίων Θεοδώρων. \n  \nΤΙΜΕΣ ΕΙΣΙΤΗΡΙΩΝ: ΤΑΜΕΙΟ: 8€  |  ΠΡΟΠΩΛΗΣΗ: 7€  (more.com) \n  \nΤΗΛ.: 210 9917470 – 6937014316   –   E-mail: marionettetheater@gmail.com  \n
URL:https://loutraki.gov.gr/en/event/to-kynigi-toy-alithinoy-thisayroy/
LOCATION:Πάρκο Δεξαμενής\, Λουτράκι\, 20300\, Ελλάδα
GEO:37.9727548;22.9858004
X-APPLE-STRUCTURED-LOCATION;VALUE=URI;X-ADDRESS=Πάρκο Δεξαμενής Λουτράκι 20300 Ελλάδα;X-APPLE-RADIUS=500;X-TITLE=Πάρκο Δεξαμενής:geo:22.9858004,37.9727548
CATEGORIES:
ATTACH;FMTTYPE=image/jpeg:https://loutraki.gov.gr/wp-content/uploads/2025/07/Αφίσα-Το-κυνήγι-του-Αληθινού-θησαυρού-Λουτράκι.jpg
END:VEVENT
END:VCALENDAR