BEGIN:VCALENDAR
VERSION:2.0
PRODID:-//Δήμος Λουτρακίου - ECPv4.6.12//NONSGML v1.0//EN
CALSCALE:GREGORIAN
METHOD:PUBLISH
X-WR-CALNAME:Δήμος Λουτρακίου
X-ORIGINAL-URL:https://loutraki.gov.gr/en
X-WR-CALDESC:Events for Δήμος Λουτρακίου
BEGIN:VEVENT
DTSTART;TZID=Europe/Athens:20250613T080000
DTEND;TZID=Europe/Athens:20250625T170000
DTSTAMP:20260425T002924
CREATED:20250613T083920Z
LAST-MODIFIED:20250617T102049Z
UID:31817-1749801600-1750870800@loutraki.gov.gr
SUMMARY:7o Bridges International Film Festival ΓΕΦΥΡΕΣ
DESCRIPTION:\n\n\n\n\n\n\nΑπό τις Κάννες στο Λουτράκι! Το Bridges International Film Festival ΓΕΦΥΡΕΣ-Παγκόσμιος Κινηματογράφος θα πραγματοποιηθεί φέτος για έβδομη φορά στο Λουτράκι εγκαινιάζοντας την καλοκαιρινή σεζόν\, με μια πλούσια κινηματογραφική εμπειρία.\n\n\n 13- 25 Ιουνίου 2025\n Ηλέκτρα θερινό Σινεμά\n Είσοδος Ελεύθερη\n\n\nΤο φετινό πρόγραμμα\, διάρκειας περίπου 45 ωρών\, περιλαμβάνει προβολές βραβευμένων ταινιών καθώς και πρεμιέρες πρόσφατης παραγωγής από την Ελλάδα και όλο τον κόσμο.\n Ταινίες μικρού μήκους\n Ταινίες μεγάλου μήκους\n Παιδικές ταινίες\n Animation (Κινουμένων σχεδίων)\n Ντοκιμαντέρ\n\n\nΌπως κάθε χρόνο\, σκηνοθέτες και συντελεστές των ταινιών θα παρευρεθούν στις προβολές και θα συζητήσουν με το κοινό μετά το τέλος κάθε ταινίας.\n\n\n Δείτε το αναλυτικό πρόγραμμα προβολών στο www.bridgesfest.eu\n Είσοδος Ελεύθερη\nΥπό την αιγίδα του Δήμου Λουτρακίου – Περαχώρας – Αγ. Θεοδώρων.\n\n\nΠρόγραμμα Προβολών: https://docs.google.com/document/d/1TtblJAtXYrWMoG2VHaeXWPXZYhK26mtA_grNh4gJQkU/edit?tab=t.0\n\n\n\n\n\n\n\n\n\n\n\n\n \n\n\n\n\n\n\n
URL:https://loutraki.gov.gr/en/event/7o-bridges-international-film-festival-gefyres/
LOCATION:Γεωργίου Λέκκα 9\, Λουτράκι\, Ελλάδα
GEO:37.9794076;22.9763637
X-APPLE-STRUCTURED-LOCATION;VALUE=URI;X-ADDRESS=Γεωργίου Λέκκα 9 Λουτράκι Ελλάδα;X-APPLE-RADIUS=500;X-TITLE=Γεωργίου Λέκκα 9:geo:22.9763637,37.9794076
CATEGORIES:
ATTACH;FMTTYPE=image/png:https://loutraki.gov.gr/wp-content/uploads/2025/06/ΠΡΟΣΚΛΗΣΗ-ΓΕΦΥΡΕΣ-ΛΟΥΤΡΑΚΙ-2025.png
END:VEVENT
BEGIN:VEVENT
DTSTART;TZID=Europe/Athens:20250624T210000
DTEND;TZID=Europe/Athens:20250624T230000
DTSTAMP:20260425T002924
CREATED:20250617T101641Z
LAST-MODIFIED:20250617T131943Z
UID:31864-1750798800-1750806000@loutraki.gov.gr
SUMMARY:AERIAL DANCE SHOW 2025
DESCRIPTION:AERIAL DANCE SHOW 2025 | Πετάμε… ψηλά!\n📍 Παραλιακό Πάρκο Λουτρακίου\n🗓️ 23 & 24 Ιουνίου | 🕘 Ώρα: 21:00 \nΔύο βραδιές γεμάτες κίνηση\, δύναμη και εντυπωσιακές εναέριες φιγούρες από τη σχολή BODY & MIND by Katerina Thimi! \n🔹 Παιδικά\, εφηβικά & αγωνιστικά τμήματα\n🔹 Εναέριος χορός \n🔹 Τεχνική\, ισορροπία\, ψυχραιμία και καλλιτεχνική έκφραση\, όλα στον αέρα! \n…Αν νομίζετε ότι ο χορός είναι εύκολος… δοκιμάστε τον χωρίς έδαφος! 😉 \n🎟 Είσοδος ελεύθερη\n✅ Με την υποστήριξη του Δήμου Λουτρακίου – Περαχώρας – Αγ. Θεοδώρων\n🙏 Χορηγοί: Κ. Δημητρίου • Boutrsalas Gold & Silver • ΚΟΛΩΝΑΚΙ \n#LoutrakiEvents #AerialDanceShow #BodyAndMind #ΑθλητισμόςΜεΣτυλ #ΠετάμεΨηλά #ΔήμοςΛουτρακίου \n
URL:https://loutraki.gov.gr/en/event/aerial-dance-show-2025/2025-06-24/
LOCATION:Παραλιακό Πάρκο\, ΛΟΥΤΡΑΚΙ\, Κορινθία\, 20300\, Ελλάδα
GEO:37.9792631;22.9735862
X-APPLE-STRUCTURED-LOCATION;VALUE=URI;X-ADDRESS=Παραλιακό Πάρκο ΛΟΥΤΡΑΚΙ Κορινθία 20300 Ελλάδα;X-APPLE-RADIUS=500;X-TITLE=Παραλιακό Πάρκο:geo:22.9735862,37.9792631
CATEGORIES:Αθλητικές
ATTACH;FMTTYPE=image/jpeg:https://loutraki.gov.gr/wp-content/uploads/2025/06/εικόνα_Viber_2025-06-17_10-39-29-284.jpg
END:VEVENT
END:VCALENDAR