BEGIN:VCALENDAR
VERSION:2.0
PRODID:-//Δήμος Λουτρακίου - ECPv4.6.12//NONSGML v1.0//EN
CALSCALE:GREGORIAN
METHOD:PUBLISH
X-WR-CALNAME:Δήμος Λουτρακίου
X-ORIGINAL-URL:https://loutraki.gov.gr/en
X-WR-CALDESC:Events for Δήμος Λουτρακίου
BEGIN:VEVENT
DTSTART;TZID=Europe/Athens:20250603T080000
DTEND;TZID=Europe/Athens:20250608T170000
DTSTAMP:20260426T000554
CREATED:20240327T081949Z
LAST-MODIFIED:20250613T094059Z
UID:29318-1748937600-1749402000@loutraki.gov.gr
SUMMARY:8οι Παγκόσμιοι Αγώνες Εργασιακού Αθλητισμού 2025
DESCRIPTION:Οι 8οι Παγκόσμιοι Αγώνες Εργασιακού Αθλητισμού 2025 έρχονται στο Λουτράκι τον Ιούνιο του 2025! Η εκδήλωση διοργανώνεται από τον Ελληνικό Οργανισμό Εταιρικού Αθλητισμού και Υγείας\, με τη συνδιοργάνωση του Δήμου Λουτρακίου-Περαχώρας-Αγίων Θεοδώρων. \nΗ αναμενόμενη συμμετοχή στους Αγώνες ανέρχεται περίπου σε 5.500 αθλητές και αθλούμενους από 40 και πλέον χώρες παγκοσμίως\, οι οποίοι θα έχουν την ευκαιρία να αγωνιστούν σε 20 αθλήματα\, ομαδικά και ατομικά\, στις αθλητικές εγκαταστάσεις του Δήμου μας. Οι Παγκόσμιοι Αγώνες που θα πραγματοποιηθούν για πρώτη φορά στην Ελλάδα\, αποτελούν ένα αθλητικό γεγονός ιδιαίτερης σημασίας τόσο συμβολικής όσο τουριστικής και οικονομικής\, δίνοντας ιδιαίτερη ώθηση στην τοπική οικονομία\, συμβάλλοντας σημαντικά στη διεθνή προβολή της χώρας και του τόπου\, και την ανάπτυξη του αθλητικού τουρισμού. \n\n\n\n\n\n\n\n\nΕίμαστε ενθουσιασμένοι και περιμένουμε με ανυπομονησία αυτή τη μεγάλη γιορτή\, όπου θα γίνει μια συγκέντρωση με συμμετέχοντες από όλο τον κόσμο. \n\n  \nΤελετή Έναρξης (04/06 ημέρα Τετάρτη) & Λήξης (07/06 ημέρα Σάββατο) στο Λουτράκι σε εορταστική ατμόσφαιρα! Όλοι οι αθλητές από τις χώρες-μέλη θα συμμετάσχουν σε μια υπέροχη παρέλαση κατά την Τελετή Έναρξης των Αγώνων. Θα πραγματοποιηθούν Unique Every Day Events και η Τελετή Λήξης θα είναι μια μεγαλειώδης\, φαντασμαγορική γιορτή. \n  \n\nΠροορισμός \n> Περιτριγυρισμένη από μια σειρά από εκπληκτικές θάλασσες και βουνά\, αυτή η ασφαλής και φιλική προς το ταξίδι χώρα είναι γεμάτη με θησαυρούς που περιμένουν να τους ανακαλύψετε: διάσημους αρχαιολογικούς χώρους\, μουσεία και γκαλερί σύγχρονης και κλασικής τέχνης\, spa\, καταστήματα\, εστιατόρια και μπαρ\, δρόμο αγορές και παζάρια\, υπαίθριους κινηματογράφους\, αμμώδεις παραλίες\, γραφικά ελληνικά νησιά σε κοντινή απόσταση και 300 ηλιόλουστες μέρες.\n> Η ιατρική\, η φιλοσοφία\, το δράμα\, ο αθλητισμός και οι επιστήμες\, όλα προήλθαν από την Αρχαία Ελλάδα. Οι συμμετέχοντες από διάφορες χώρες θα έχουν τη μοναδική ευκαιρία να επισκεφθούν την πατρίδα των πρώτων Ολυμπιακών Αγώνων.\n> Το Λουτράκι\, η πύλη της Μυθικής Πελοποννήσου\, είναι ένας μοναδικός προορισμός\, ιδανικός για τουρισμό όλο το χρόνο\, σε απόσταση 80 χλμ από την πόλη της Αθήνας και 3 χλμ από την Κόρινθο.\n> Η Thermal city είναι ο απόλυτος παραθαλάσσιος ταξιδιωτικός προορισμός με μεσογειακό κλίμα\, εύκολη πρόσβαση και εξαιρετικές επιλογές διαμονής και γαστρονομίας.\n> Το Λουτράκι είναι μια διεθνής αθλητική πόλη με εξαιρετικές αθλητικές υποδομές που για πάνω από 20 χρόνια υποδέχεται με επιτυχία πολλές σημαντικές αθλητικές διοργανώσεις\, αφού περισσότεροι από 40.000 αθλητές έχουν συμμετάσχει σε πρωταθλήματα & διοργανώσεις!\n> Ο Διεθνής Αερολιμένας Αθηνών προσφέρει υπερσύγχρονες εγκαταστάσεις\, με τακτικές και πολλαπλές καθημερινές πτήσεις που δίνουν τη δυνατότητα στους επισκέπτες να φτάσουν\, στην πλειονότητά τους\, με άμεσες πτήσεις από τις περισσότερες χώρες και ηπείρους. Σε απόσταση αναπνοής\, μόλις 80 χιλιόμετρα από το Λουτράκι. \n\n\n \n \n\n\n\n\n\n\n\n\n\n\n\n \n\nΤΟΠΟΘΕΣΙΑ:ΛΟΥΤΡΑΚΙ\, ΕΛΛΑΔΑ\nΗΜΕΡΟΜΗΝΙΑ:3 ΙΟΥΝΙΟΥ\, 2025\nΗΜΕΡΟΜΗΝΙΑ ΛΗΞΗΣ:8 ΙΟΥΝΙΟΥ\, 2025\n \n\n\n\nΑθλήματα\n\n\n\n\n\n\n\n\n\n\n\n\n\n\n\n>Στίβος\n> Μπάσκετ 3 σε 3\n> Μπάσκετ 5 σε 5\n> Παραλία – Ρακέτα\n> Μπιτς βόλεϊ\n> Μπιτς Πάλη\n> Μπόουλινγκ\n> Catch’n Serve Ball\n> Σκάκι\n> Χορός\n> Dodgeball\n> Fistball\nΠερισσότερα από ένα γεγονός.\n> Ποδόσφαιρο 11\n> Ποδόσφαιρο 5\n> Γυμναστική\n> Χέρι με χέρι\n> Χάντμπολ\n> Τζούντο\n> Καράτε\n> Κολύμβηση ανοιχτής θάλασσας\n> Παντέλ >\nΠετάνκ\n> Ράγκμπι\n> Αθλητισμός για όλους – Ηλικιωμένοι +55\n> Σκουός\n> SUP\n> Κολύμβηση\n> Πινγκ πονγκ\n> Τένις\n> Βόλεϊ\n> Πάλη\n*Το τελικό πρόγραμμα μπορεί να περιλαμβάνει επιπλέον αθλήματα & κλάδους.\n\n\n\n\n\n\n\nΧώροι διεξαγωγής\n\n\n\n\n\n>Sportcamp – Αθλητικό Προπονητικό Κέντρο Νέων\n> Λουτράκι – Δημοτικό Στάδιο «Χρήστος Θώδης»\n> Λουτράκι – «Γ. Γαλανόπουλος» Κλειστό Αθλητικό Μέγαρο\n> Λουτράκι – Κολυμβητήριο\n> Wyndham Loutraki Poseidon Resort\n> Λουτράκι – Στρατόπεδο\n> Λουτράκι – Κλειστό Λύκειο\n> Αγ. Θεόδωροι – Δημοτικό Γήπεδο Ποδοσφαίρου\n> Πόλη Λουτρακίου – (Δημοτικά Γήπεδα\, Ιαματικά Λουτρά\, Παραλία Λουτρακίου)\n> Κόρινθος- Κλειστό\n> Ακαδημία Αντισφαίρισης Κοντόπουλος\n> Γαλατάκι- Γήπεδο ποδοσφαίρου\n> Αγ. Θεοδώρων – Κρωμμυώνειο Κλειστό\n> Κόρινθος – Κέντρο Μπόουλινγκ\n> Λέχαιο – Κλειστό\n> Βέλο – Δημοτικό Στάδιο\n> Λιμνοθάλασσα Ηραίου – Υπάνεμα\n\n \n\n\n\nFINAL INVITATION 8th CSIT World Sports Games\n\n\n\n\n\n
URL:https://loutraki.gov.gr/en/event/8oi-pagkosmioi-agones-ergasiakoy-athlitismoy-2025/2025-06-03/
LOCATION:Λουτράκι\, Λουτράκι\, 20300
GEO:37.9759033;22.9774589
X-APPLE-STRUCTURED-LOCATION;VALUE=URI;X-ADDRESS=Λουτράκι Λουτράκι 20300;X-APPLE-RADIUS=500;X-TITLE=Λουτράκι:geo:22.9774589,37.9759033
CATEGORIES:Αθλητικές
ATTACH;FMTTYPE=image/jpeg:https://loutraki.gov.gr/wp-content/uploads/2024/03/Untitled-design-32-300x232.jpg
END:VEVENT
BEGIN:VEVENT
DTSTART;TZID=Europe/Athens:20250608T203000
DTEND;TZID=Europe/Athens:20250608T223000
DTSTAMP:20260426T000554
CREATED:20250528T080033Z
LAST-MODIFIED:20250605T080229Z
UID:31756-1749414600-1749421800@loutraki.gov.gr
SUMMARY:Ετήσια Παρουσίαση Παραδοσιακών Χορευτικών Τμημάτων
DESCRIPTION:📯 Ετήσια Παρουσίαση Παραδοσιακών Χορευτικών Τμημάτων Φιλοστράτα Πολιτιστικός Σύλλογος Αγίων Θεοδώρων \nΚυριακή 8 Ιουνίου | ⏰ 20:30 | 📍 Πλατεία Εθνικής Αντίστασης\nΜια γιορτή της παράδοσης\, του ρυθμού και της μνήμης.\nΠαιδιά\, νέοι και ενήλικες χορεύουν με ψυχή και τιμούν τις ρίζες μας\, υπό την καθοδήγηση του κ. Βασίλη Γεωργόπουλου.\nΣας περιμένουμε σε μια χορευτική βραδιά που θα μας φέρει πιο κοντά στην παράδοση! \n
URL:https://loutraki.gov.gr/en/event/etisia-paroysiasi-paradosiakon-choreytikon-tmimaton/
CATEGORIES:
ATTACH;FMTTYPE=image/jpeg:https://loutraki.gov.gr/wp-content/uploads/2025/06/503374234_1146098934218291_8629254850453676198_n.jpg
END:VEVENT
END:VCALENDAR