BEGIN:VCALENDAR
VERSION:2.0
PRODID:-//Δήμος Λουτρακίου - ECPv4.6.12//NONSGML v1.0//EN
CALSCALE:GREGORIAN
METHOD:PUBLISH
X-WR-CALNAME:Δήμος Λουτρακίου
X-ORIGINAL-URL:https://loutraki.gov.gr/en
X-WR-CALDESC:Events for Δήμος Λουτρακίου
BEGIN:VEVENT
DTSTART;TZID=Europe/Athens:20240407T190000
DTEND;TZID=Europe/Athens:20240407T210000
DTSTAMP:20260422T223837
CREATED:20240401T075418Z
LAST-MODIFIED:20240401T080430Z
UID:29342-1712516400-1712523600@loutraki.gov.gr
SUMMARY:Υγεία & Παθήσεις σχετικές με τις Γυναίκες | Ενημερωτικές Εκδηλώσεις
DESCRIPTION: \n  \n \n  \n
URL:https://loutraki.gov.gr/en/event/ygeia-pathiseis-schetikes-me-tis-gynaikes-enimerotikes-ekdiloseis/
LOCATION:Οικονόμου 3 & Τομπάζη\, Λουτράκι\, Κορινθία\, 20300\, Ελλάδα
GEO:37.9724674;22.9770054
X-APPLE-STRUCTURED-LOCATION;VALUE=URI;X-ADDRESS=Οικονόμου 3 & Τομπάζη Λουτράκι Κορινθία 20300 Ελλάδα;X-APPLE-RADIUS=500;X-TITLE=Οικονόμου 3 & Τομπάζη:geo:22.9770054,37.9724674
CATEGORIES:Υγείας
ATTACH;FMTTYPE=image/jpeg:https://loutraki.gov.gr/wp-content/uploads/2024/04/ΕΝΗΜΕΡΩΤΙΚΗ-ΔΡΑΣΗ_ΥΓΕΙΑ-ΚΑΙ-ΠΑΘΗΣΕΙΣ_ΑΦΙΣΑ.jpg
END:VEVENT
END:VCALENDAR