BEGIN:VCALENDAR
VERSION:2.0
PRODID:-//Δήμος Λουτρακίου - ECPv4.6.12//NONSGML v1.0//EN
CALSCALE:GREGORIAN
METHOD:PUBLISH
X-WR-CALNAME:Δήμος Λουτρακίου
X-ORIGINAL-URL:https://loutraki.gov.gr/en
X-WR-CALDESC:Events for Δήμος Λουτρακίου
BEGIN:VEVENT
DTSTART;TZID=Europe/Athens:20190810T213000
DTEND;TZID=Europe/Athens:20190914T233000
DTSTAMP:20260422T114726
CREATED:20190702T183148Z
LAST-MODIFIED:20190702T183148Z
UID:18001-1565472600-1568503800@loutraki.gov.gr
SUMMARY:Βαγγέλης Γερμανός
DESCRIPTION:Καλαβρία\, Πίσια | Ώρα 21.30 \nΈνας νέος πολιτιστικός χώρος εγκαινιάζεται στα Πίσια και φιλοξενεί έναν από τους πιο αγαπημένους τραγουδοποιούς της γενιάς του\, τον Βαγγέλη Γερμανό!\nΟ ροκ τροβαδούρος που συνδυάζει αρμονικά την ευαισθησία και τη ρομαντική διάθεση με την αντισυμβατική ματιά πάνω στη ζωή\, με αρκετά από τα καλύτερα τραγούδια των τελευταίων 30 ετών (Κηπουρός\, Κρουαζιέρα\, Απόκληρος\, Μπανιέρα\, Δραπέτης\, Γόησσα) στη μουσική του βαλίτσα\, τις τρυφερές μπαλάντες που θυμίζουν καλοκαιρινά βράδια σε παραλίες με κιθάρα και άπειρες εμφανίσεις στο ενεργητικό του\, έρχεται στο Loutraki Festival σε μια… «συλλεκτική βραδιά\, εφ’ όλης της ύλης! \n
URL:https://loutraki.gov.gr/en/event/vaggelis-germanos/
LOCATION:Πίσια\, Κορινθία\, 20300\, Ελλάδα
GEO:38.0210744;22.9880671
CATEGORIES:Loutraki Festival 2019,
ATTACH;FMTTYPE=image/jpeg:https://loutraki.gov.gr/wp-content/uploads/2019/07/unnamed-12.jpg
END:VEVENT
END:VCALENDAR