BEGIN:VCALENDAR
VERSION:2.0
PRODID:-//Δήμος Λουτρακίου - ECPv4.6.12//NONSGML v1.0//EN
CALSCALE:GREGORIAN
METHOD:PUBLISH
X-WR-CALNAME:Δήμος Λουτρακίου
X-ORIGINAL-URL:https://loutraki.gov.gr/en
X-WR-CALDESC:Events for Δήμος Λουτρακίου
BEGIN:VEVENT
DTSTART;TZID=Europe/Athens:20210214T213000
DTEND;TZID=Europe/Athens:20210214T233000
DTSTAMP:20260423T235733
CREATED:20210208T102524Z
LAST-MODIFIED:20210211T102246Z
UID:22417-1613338200-1613345400@loutraki.gov.gr
SUMMARY:Βαγγέλης Γερμανός Live
DESCRIPTION:Μια ξεχωριστή συναυλία ετοιμάζει ο Δήμος Λουτρακίου – Περαχώρας – Αγίων Θεοδώρων για την Κυριακή 14 Φεβρουαρίου 2021. \nΟ Βαγγέλης Γερμανός ενώνει τη φωνή του με τους Λουτρακιώτες τραγουδιστές και μουσικούς Μάρω Μαρκέλλου\, Γιώργο Μίχα\, Χρήστο Νινιό\, Γιάννη Τσελώνη\, Βασίλη Πιερρακέα\, Αντώνη Αγγελίδη\, Τάκη Λυκομήτρο\, Χρήστο Ζερβό και Βασίλη Κοντογιάννη για ένα μοναδικό live που θα αναμεταδοθεί την Κυριακή 14 Φεβρουαρίου\, εορτή του Αγίου Βαλεντίνου. \nΠαράλληλα με τη συναυλία ο Δήμος Λουτρακίου – Περαχώρας – Αγίων Θεοδώρων επιθυμεί να συμβάλλει στην ενημέρωση και ευαισθητοποίηση των πολιτών για τα παιδιά με Συγγενείς Καρδιοπάθειες. \nΗ 14η Φεβρουαρίου\, εκτός από την γνωστή σε όλους μας «Ημέρα των Ερωτευμένων» έχει καθιερωθεί διεθνώς και ως ημέρα ενημέρωσης και ευαισθητοποίησης\, σχετικά με τις ανάγκες και τα προβλήματα που αντιμετωπίζουν τα παιδιά με Συγγενείς Καρδιοπάθειες. Κάθε χρόνο στην Ελλάδα γεννιούνται 800-1.000 παιδιά με Συγγενείς Καρδιοπάθειες. Αυτός ο αριθμός αντιστοιχεί στο ποσοστό 0\,8-1% των 100.000 γεννήσεων ετησίως. Η πάθηση μπορεί να προκαλέσει περισσότερους θανάτους κατά το πρώτο έτος της ζωής του βρέφους από οποιαδήποτε άλλη γενετική ανωμαλία. «Η Καρδιά του Παιδιού» στέλνει μήνυμα αγάπης και αισιοδοξίας και σας προσκαλεί να γίνετε κοινωνοί του μηνύματος της «Στηρίζουμε την «Καρδιά του Παιδιού» με την καρδιά μας». \nΗ συναυλία πραγματοποιείται με την υποστήριξη του Συλλόγου Φίλων της Μουσικής.  \nΚυριακή 14 Φεβρουαρίου Ι 21.30 \nΗ Αναμετάδοση θα γίνει από τους λογαριασμούς του Δήμου στο Facebook και το YouTube. \n
URL:https://loutraki.gov.gr/en/event/vaggelis-germanos-live/
CATEGORIES:
ATTACH;FMTTYPE=image/jpeg:https://loutraki.gov.gr/wp-content/uploads/2021/02/146939676_262346905243978_7421424981316361191_n.jpg
END:VEVENT
END:VCALENDAR