BEGIN:VCALENDAR
VERSION:2.0
PRODID:-//Δήμος Λουτρακίου - ECPv4.6.12//NONSGML v1.0//EN
CALSCALE:GREGORIAN
METHOD:PUBLISH
X-WR-CALNAME:Δήμος Λουτρακίου
X-ORIGINAL-URL:https://loutraki.gov.gr/en
X-WR-CALDESC:Events for Δήμος Λουτρακίου
BEGIN:VEVENT
DTSTART;TZID=Europe/Athens:20180630T130000
DTEND;TZID=Europe/Athens:20180701T233000
DTSTAMP:20260423T235931
CREATED:20180626T174043Z
LAST-MODIFIED:20180626T174229Z
UID:15887-1530363600-1530487800@loutraki.gov.gr
SUMMARY:Under The Sun Rock Festival 2018
DESCRIPTION:Το 1ο Under The Sun Rock Festival\, είναι γεγονός! \nΓια πρώτη φορά οι Έλληνες λάτρεις του rock ήχου και της stoner κουλτούρας θα έχουν την ευκαιρία να απολαύσουν αγαπημένους καλλιτέχνες του είδους σε μία σειρά από συναυλίες-ορόσημο\, που θα διαρκέσουν ένα ολόκληρο Σαββατοκύριακο πάνω στην παραλία του Σχίνου και κάτω από τον ήλιο που λούζει το Cariocas Beach Bar! \nΣάββατο 30 Ιουνίου και Κυριακή 1η Ιουλίου οι πολυταξιδεμένοι 1000mods\, φέροντας πλέον μία δυσθεώρητα μεγάλη εμπειρία\, ειδικότερα μετά την εκτενή Αμερικανική τους περιοδεία (αλλά και πλήθος άλλων επί Ευρωπαϊκόυ εδάφους)\, οι πολυπολιτισμικοί Villagers of Ioannina City οι super-hyped Puta Volcano που πέρυσι κυκλοφόρησαν έναν από τους δίσκους της χρονιάς\, οι Wish Upon A Star με το ανεβαστικό αμερικανοτραφές punk rock τους\, οι heavy groovy ηχοκράτορες Half Gramme of Soma\, οι Deaf Radio με το σφιχτοδεμένο σκοτεινό rock τους\, οι τοπικοί ήρωες Κορίνθιοι Drunk Jackals\, η καυτή ανερχόμενη δύναμη των Supersoul\, οι υπερηχητικά εκρηκτικοί Breath After Coma και οι dirty / heavy rockers Purple Dino\, θα εμφανιστούν στο stage του Cariocas και η εμπειρία αναμένεται να είναι απλά μοναδική! \nΔεν είναι άλλο ένα γηπεδικό φεστιβαλ\, η ακόμα μία τσιμεντένια συναυλία. Είναι μια υπέροχη εμπειρία στο πιο θρυλικό beach bar της χώρας. Με σύμμαχο τη θάλασσα και την ατμόσφαιρα εμποτισμένη με καλοκαιρινά feel-good vibes\, πληθώρα rock συγκροτημάτων γεγνωσμένης αξίας\, θα δονούν τον αέρα με τις μουσικές τους να αντηχούν στα Γεράνια όρη που αποτελούν μέρος τους επιβλητικού φυσικού σκηνικού του κόλπου του Σχίνου\, ενώ ακόμα και το φαγητό\, το ποτό και μία σειρά από δραστηριότητες που θα συμπεριλαμβάνονται στο φεστιβάλ\, θα σου προσφέρουν μια βιωματική εμπειρία\, που μόνο η παρουσία εκάστου εξ υμών υπολείπεται\, για να καταστεί ακόμη πιο ξεχωριστή. \nΦιλοδοξία μας είναι το “Under The Sun” να γίνει το Rock Festival της καρδιάς μας και πάνω σε αυτές τις βάσεις χτίζουμε το παρόν και το μέλλον του. \n\nΑΝΑΛΥΤΙΚΟ ΠΡΟΓΡΑΜΜΑ: \nΣΑΒΒΑΤΟ 30 ΙΟΥΝΙΟΥ\n18:15-18:55 – Drunk Jackals\n19:10-19:55 – Purple Dino\n20:10-21:00 – Half Gramme of Soma\n21:15-22:10 – Puta Volcano\n22.45-ΤΕΛΟΣ – 1000mods \nΚΥΡΙΑΚΗ 1 ΙΟΥΛΙΟΥ\n16:00-16:40 – Supersoul\n16:55-17:40 – Breath After Coma\n17:55-18:50 – Deaf Radio\n19:05-20:00 – Wish Upon A Star\n20:30-TΕΛΟΣ – VIC \n
URL:https://loutraki.gov.gr/en/event/under-the-sun-rock-festival-2018/
LOCATION:Σχίνος\, Λουτράκι\, Κορινθία\, 20300\, Ελλάδα
GEO:38.0415574;23.0260539
X-APPLE-STRUCTURED-LOCATION;VALUE=URI;X-ADDRESS=Σχίνος Λουτράκι Κορινθία 20300 Ελλάδα;X-APPLE-RADIUS=500;X-TITLE=Σχίνος:geo:23.0260539,38.0415574
CATEGORIES:
ATTACH;FMTTYPE=image/jpeg:https://loutraki.gov.gr/wp-content/uploads/2018/06/vic100mods18.jpg
END:VEVENT
END:VCALENDAR