BEGIN:VCALENDAR
VERSION:2.0
PRODID:-//Δήμος Λουτρακίου - ECPv4.6.12//NONSGML v1.0//EN
CALSCALE:GREGORIAN
METHOD:PUBLISH
X-WR-CALNAME:Δήμος Λουτρακίου
X-ORIGINAL-URL:https://loutraki.gov.gr/en
X-WR-CALDESC:Events for Δήμος Λουτρακίου
BEGIN:VEVENT
DTSTART;VALUE=DATE:20181215
DTEND;VALUE=DATE:20181231
DTSTAMP:20260425T033006
CREATED:20181123T151940Z
LAST-MODIFIED:20181212T192507Z
UID:17084-1544832000-1546214399@loutraki.gov.gr
SUMMARY:Το σπίτι του Αϊ Βασίλη στη Δημοτική Βιβλιοθήκη
DESCRIPTION:Η Δημοτική Βιβλιοθήκη Λουτρακίου μεταμορφώνεται από 15 έως 30 Δεκεμβρίου 2018 στο σπίτι του Άι Βασίλη! \n\nΣυναυλίες\nFace Painting\nΚατασκευές\nΑφηγήσεις Παραμυθιών\nΘεατρικές Παραστάσεις αλλά και πολλά άλλα!\n\nκατεβάστε το πλήρες πρόγραμμα εδώ \n  \n
URL:https://loutraki.gov.gr/en/event/to-spiti-toy-ai-vasili-sti-dimotiki-vivliothiki/
LOCATION:Οικονόμου 3 & Τομπάζη\, Λουτράκι\, Κορινθία\, 20300\, Ελλάδα
GEO:37.9724674;22.9770054
X-APPLE-STRUCTURED-LOCATION;VALUE=URI;X-ADDRESS=Οικονόμου 3 & Τομπάζη Λουτράκι Κορινθία 20300 Ελλάδα;X-APPLE-RADIUS=500;X-TITLE=Οικονόμου 3 & Τομπάζη:geo:22.9770054,37.9724674
ATTACH;FMTTYPE=image/jpeg:https://loutraki.gov.gr/wp-content/uploads/2018/11/46486229_1092162740964600_7186816819900973056_n.jpg
END:VEVENT
END:VCALENDAR