BEGIN:VCALENDAR
VERSION:2.0
PRODID:-//Δήμος Λουτρακίου - ECPv4.6.12//NONSGML v1.0//EN
CALSCALE:GREGORIAN
METHOD:PUBLISH
X-WR-CALNAME:Δήμος Λουτρακίου
X-ORIGINAL-URL:https://loutraki.gov.gr/en
X-WR-CALDESC:Events for Δήμος Λουτρακίου
BEGIN:VEVENT
DTSTART;TZID=Europe/Athens:20181107T190000
DTEND;TZID=Europe/Athens:20181107T210000
DTSTAMP:20260425T032949
CREATED:20181030T203913Z
LAST-MODIFIED:20181030T203913Z
UID:16911-1541617200-1541624400@loutraki.gov.gr
SUMMARY:''Το γινάτι'' του Γιάννη Καλπούζου
DESCRIPTION:Η Λέσχη Ανάγνωσης Λουτρακίου\, το Βιβλιοπωλείο BEELOO και οι Εκδόσεις Ψυχογιός σας προσκαλούν σε μία συνάντηση με τον συγγραφέα Γιάννη Καλπούζο\, με αφορμή το νέο του μυθιστόρημα στη Δημοτική Βιβλιοθήκη Λουτρακίου την Τετάρτη 7 Νοεμβρίου\, στις 19:00. \nΟ συγγραφέας θα συνομιλήσει με το κοινό και θα υπογράψει αντίτυπα του βιβλίου του. \n
URL:https://loutraki.gov.gr/en/event/to-ginati-toy-gianni-kalpoyzoy/
LOCATION:Οικονόμου 3 & Τομπάζη\, Λουτράκι\, Κορινθία\, 20300\, Ελλάδα
GEO:37.9724674;22.9770054
X-APPLE-STRUCTURED-LOCATION;VALUE=URI;X-ADDRESS=Οικονόμου 3 & Τομπάζη Λουτράκι Κορινθία 20300 Ελλάδα;X-APPLE-RADIUS=500;X-TITLE=Οικονόμου 3 & Τομπάζη:geo:22.9770054,37.9724674
CATEGORIES:Πολιτικές
ATTACH;FMTTYPE=image/jpeg:https://loutraki.gov.gr/wp-content/uploads/2018/10/44953703_2227636070847571_3541677620519239680_n.jpg
END:VEVENT
END:VCALENDAR