BEGIN:VCALENDAR
VERSION:2.0
PRODID:-//Δήμος Λουτρακίου - ECPv4.6.12//NONSGML v1.0//EN
CALSCALE:GREGORIAN
METHOD:PUBLISH
X-WR-CALNAME:Δήμος Λουτρακίου
X-ORIGINAL-URL:https://loutraki.gov.gr/en
X-WR-CALDESC:Events for Δήμος Λουτρακίου
BEGIN:VEVENT
DTSTART;VALUE=DATE:20191214
DTEND;VALUE=DATE:20200107
DTSTAMP:20260424T074547
CREATED:20191218T100623Z
LAST-MODIFIED:20191219T103011Z
UID:19305-1576281600-1578355199@loutraki.gov.gr
SUMMARY:Το Δάσος των Ξωτικών
DESCRIPTION:Στο παραλιακό πάρκο Λουτρακίου\, από τις 14/12 έως τις 6/1/2020\, Σάββατο και Κυριακή και καθημερινά από 21/12 έως 6/1/2020 και ώρες 10.00-13.00 και 17.30 – 20.30. \nΤα ξωτικά του Άη Βασίλη ετοιμάζονται πυρετωδώς για τα Χριστούγεννα\, χρωματίζουν τα παιδικά προσωπάκια με οικολογικά face painting\, ζωγραφίζουν κάρτες για τους συγγενείς και του φίλους και γράφουν το γράμμα στον Άη Βασίλη. Ο Άη Βασίλης υποδέχεται τους μικρούς φίλους του για να του πουν τι δώρο περιμένουν φέτος! \nΣάββατο 14/12 και ώρα 18.00 \nΤελετή έναρξης πάρκου με τον Βαλάντη και πολλές εκπλήξεις..! \nΚυριακή 15/12 και ώρα 17.00-19.00 \nΜascot Στρουμφάκια διασκεδάζουν και χορεύουν με μικρούς και μεγάλους. \n\nΧmas LUCKY WEEK \n  \n  \nΗ Ένωση Εμπόρων και Επαγγελματοβιοτεχνών Λουτρακίου διοργανώνει και φέτος το LUCKY WEEK. \n  \nΜε κάθε αγορά που κάνετε στα καταστήματα που συμμετέχουν\, από Παρασκευή 20/12 έως και Παρασκευή 27/12\, συμμετέχετε αυτόματα στην κλήρωση για δωροεπιταγές συνολικής αξίας 500€.  \n  \nΗ κλήρωση θα γίνει την Παρασκευή 27/12 και ώρα 21.00 στο ΔΑΣΟΣ ΤΩΝ ΞΩΤΙΚΩΝ. \n  \n\n  \n \nΤο Δάσος των Ξωτικών \nΣάββατο 21/12  \n17.00 Φτιάχνουμε αγγέλους με την Θεοδοσία Χατόγλου \n18.00 Η Μαγική Παραμυθού μας αφηγείται την χριστουγεννιάτικη ιστορία \n20.00 live music event με τους Yesterday Blues Band  \n\nΔευτέρα 23/12  \n18.00 DJ και χριστουγεννιάτικες μελωδίες. \n\nΤρίτη 24/12  \n12.00 Pantelis Abazis  – christmas music event \n17.00 Ο Εμπορικός Σύλλογος Λουτρακίου και ο Σύλλογος Επισιτιστών “Ξένιος Ζεύς” μοιράζουν δώρα σε όλα τα παιδιά. \n18.00 Santa’s run  \n18.00 Face painting από την Βασίλισσα του Χιονιού \n20.00 Live με τους 0ne year later και την Μαρίνα Παπαθανασίου \n\nΠαρασκευή 27/12  \n19.00 Παραδοσιακοί χοροί από τον Σύλλογο Ηπειρωτών Νομού Κορινθίας  “Η Πίνδος” \n\nΣάββατο 28/12  \n18.00 Χορευτικά με την Ιωάννα Χατζηαθανασίου \n\nΣάββατο 28/12 και Κυριακή 29 /12  \n20.00 Rock Festival \n\nΤρίτη 31/12 \n12.00 Εκδήλωση με animater και face painting με την Χιονάτη \n\nΚυριακή 5/1/2020  \n11.00 Animation event \n\nΔευτέρα 6/1/2020  \n12.00 Διαδραστική αφήγηση “Ήρθαν τα ξωτικά” \n
URL:https://loutraki.gov.gr/en/event/to-dasos-ton-xotikon/
LOCATION:Παραλιακό Πάρκο\, ΛΟΥΤΡΑΚΙ\, Κορινθία\, 20300\, Ελλάδα
GEO:37.9792631;22.9735862
X-APPLE-STRUCTURED-LOCATION;VALUE=URI;X-ADDRESS=Παραλιακό Πάρκο ΛΟΥΤΡΑΚΙ Κορινθία 20300 Ελλάδα;X-APPLE-RADIUS=500;X-TITLE=Παραλιακό Πάρκο:geo:22.9735862,37.9792631
CATEGORIES:
ATTACH;FMTTYPE=image/png:https://loutraki.gov.gr/wp-content/uploads/2019/12/dasosksotikonbn.png
END:VEVENT
END:VCALENDAR