BEGIN:VCALENDAR
VERSION:2.0
PRODID:-//Δήμος Λουτρακίου - ECPv4.6.12//NONSGML v1.0//EN
CALSCALE:GREGORIAN
METHOD:PUBLISH
X-WR-CALNAME:Δήμος Λουτρακίου
X-ORIGINAL-URL:https://loutraki.gov.gr/en
X-WR-CALDESC:Events for Δήμος Λουτρακίου
BEGIN:VEVENT
DTSTART;TZID=Europe/Athens:20230616T080000
DTEND;TZID=Europe/Athens:20230618T170000
DTSTAMP:20260423T042133
CREATED:20230509T084147Z
LAST-MODIFIED:20230608T131417Z
UID:27813-1686902400-1687107600@loutraki.gov.gr
SUMMARY:TASTE OF LOUTRAKI - The Corinthian Food Festival
DESCRIPTION:Ένα μοντέρνο γαστρονομικό φεστιβάλ στο Λουτράκι με Πρωταγωνιστές τις τοπικές επιχειρήσεις εστίασης και φιλοξενίας! \n \nΠερισσότερες  από 40 επιχειρήσεις της πόλης\, 5* Ξενοδοχεία\, παραγωγοί τοπικών προϊόντων\, κορυφαίοι σεφ και ένα εξειδικευμένο τοπικό δίκτυο τουρισμού εμπειριών ενώνουν τις δυνάμεις τους κάτω από την ομπρέλα του καινοτόμου Taste of Loutraki. \nΣτο τριήμερο φεστιβάλ\, επιχειρήσεις εστίασης θα προσφέρουν σε ειδική τιμή μενού με βάση τα προϊόντα της Κορινθιακής γης στο τοπικό κοινό και στους επισκέπτες\, δημιουργώντας παράλληλα ένα σημαντικό κίνητρο για να επιλέξει κανείς ως μία σύντομη απόδραση το Λουτράκι. \nΠαράλληλα\, καθ΄ όλη τη διάρκεια του τριημέρου\, θα λάβει χώρα Press Trip στο οποίο θα συμμετέχουν εξειδικευμένοι δημοσιογράφοι Τουρισμού και Γαστρονομίας με σκοπό την ανάδειξη και προβολή των τοπικών προϊόντων\, που αποτελούν την κορωνίδα της Κορινθιακής γαστρονομίας\, σε θεματικά ΜΜΕ. \nΤο Γαστρονομικό Φεστιβάλ διοργανώνεται από τον Τουριστικό Οργανισμό Λουτρακίου\, τον Σύλλογο Επισιτιστών «Ο ΞΕΝΙΟΣ ΖΕΥΣ»\, το Επιμελητήριο Κορινθίας και την εταιρεία Τουριστικού Μάρκετινγκ “Respond on Demand”\,  υπό την αιγίδα και την υποστήριξη του Δήμου Λουτρακίου – Περαχώρας – Αγίων Θεοδώρων\, της Ένωσης Ξενοδόχων Νομού Κορινθίας και του Δημοτικού Λιμενικού Ταμείου Λουτρακίου-Περαχώρας. \n\nPress Trip Program 16-18/06/2023 \n\n\n\n\n\nΣας προσκαλούμε \nΤην Παρασκευή  16 Ιουνίου 2023 \nΣτις 17:30 το απόγευμα \nΣτο Isla Brown Corinthia Resort & Spa \n  \nΣτο 2ο διήμερο Γαστρονομικό Φεστιβάλ Taste Of Loutraki\, The Corinthian Food Festival\, που διοργανώνεται από τον Τουριστικό Οργανισμό Λουτρακίου\, τον Σύλλογο Επισιτιστών Λουτρακίου\, «Ο ΞΕΝΙΟΣ ΖΕΥΣ» και το Επιμελητήριο Κορινθίας. Το Taste of Loutraki τελεί υπό την αιγίδα και υποστήριξη της Περιφέρειας Πελοποννήσου\, του Δήμου Λουτρακίου-Περαχώρας-Αγίων Θεοδώρων\, της  Ένωσης Ξενοδόχων Νομού Κορινθίας και του Δημοτικού Λιμενικού Ταμείου Λουτρακίου-Περαχώρας. Την οργάνωση του Φεστιβάλ υλοποιεί η εταιρεία Τουριστικού Μάρκετινγκ “Respond on Demand”\, με την ευγενική χορηγία της BROWN HOTELS και του RAMADA & WYNDHAM LOUTRAKI POSEIDON RESORT. \n  \n– 17:00 με 17:30 Προσέλευση στο Στο Isla Brown Corinthia Resort & Spa \n– 17:30 με 18:15 Παρουσίαση του Project –  Χαιρετισμοί Συνδιοργανωτών \n  \nΠαρακαλώ απαντήστε στο email: info@lto.org.gr ή στο τηλέφωνο 2744068136 μέχρι την Δευτέρα 12 Ιουνίου. \n  \nΠΡΟΓΡΑΜΜΑ \nΠΑΡΑΣΚΕΥΗ\, 16 Ιουνίου\, Isla Brown Corinthia Resort & Spa (κατόπιν πρόσκλησης) \n  \n  \n– 18:30 με 19:15 Τυφλή γευσιγνωσία νερού και Παρουσίαση των ιδιοτήτων του νερού Λουτρακίου από τον μοναδικό Πιστοποιημένο Σομελιέ Νερού\, ΓΙΑΝΝΗ ΚΟΡΟΒΕΣΗ \n  \n-19:30 με 21:00 Παρακολούθηση LIVE COOKING– παρασκευές παραδοσιακών και σύγχρονων συνταγών\, με χρήση χαρακτηριστικών τοπικών προϊόντων της Κορινθιακής γης\, σε ζωντανή παρασκευή και εκτέλεση από σεφ εγνωσμένης αξίας: \nΠ. Διαμαντόπουλος από το εστιατόριο ΠΙΠΕΡΙ\nΚ. Σακκούλης από το εστιατόριο ΡΙΓΑΝΙ\nΠ. Συνοδινός από το εστιατόριο ΠΕΡΛΑ του ξενοδοχείου ΠΕΥΚΑΚΙ\nΤ.Μακαρώνας από τα εστιατόρια ΒΑΡΚΑΛΑΣ/ΕΛΑΙΩΝΑΣ\nΕ.Νικολαράκος από το ξενοδοχείο ISLA BROWN CORINTHIA \nBartender\, Ν. Λάλος από το Αnassa.The bar\, θα ετοιμάσει και θα προσφέρει Cocktail ειδικά  για το Taste Of Loutraki \n  \nΣΑΒΒΑΤΟ\, 17 Ιουνίου \nΗ Γιορτή του Τραχανά στην Περαχώρα (Ανοικτή στο κοινό) \n  \nΗ ομάδα του Experience Perachora διοργανώνει  ΓΙΟΡΤΗ ΤΡΑΧΑΝΑ στο πλαίσιο του Γαστρονομικού Φεστιβάλ\, Taste of Loutraki. \n  \n-19:30 με 21:30 Η εκδήλωση ξεκινάει με επίδειξη της παραδοσιακής διαδικασίας της κατασκευής τραχανά. \nΠαράλληλα οι επισκέπτες θα έχουν την δυνατότητα να γευτούν φαγητά με βάση τον τραχανά\, παρέα με κρασί και υπό το άκουσμα μουσικής Dj. \n  \n– Live cooking γευσιγνωσία Τραχανότο- Live cooking από ένα δημιουργικό πιάτο που θα περιέχει τραχανά. \nΤα πιάτα θα επιμεληθούν: \nHead Chef Κωνσταντίνος Βασάλος \nChef Στεφανία Βασιλείου \nChef Δημήτρης Φαρμάκης \n  \n– Γευσιγνωσία \,κεράσματα\, που περιέχουν τραχανά Βλάχα\, παραδοσιακά ζυμαρικά Λουτρακίου. \n–Η διατροφολόγος Σοφία Χόνδρου θα μιλήσει για την διατροφική αξία του τραχανά \n– Παρουσίαση από την οινολόγο Ιωάννα Δαβλέρη και γευσιγνωσία κρασιών Papagiannakopoulos Winery \n– Έκθεση και γευσιγνωσία Κορινθιακών  προϊόντων από το Corinthian Taste \n  \nΚΥΡΙΑΚΗ\, 18 Ιουνίου\, Wyndham Loutraki Poseidon Resort» (αποκλειστικά για τα φιλοξενούμενα ΜΜΕ) \n  \n–11:00 με 13:00 “Wine & Food Pairing” στο  «Wyndham Loutraki Poseidon Resort» και συγκεκριμένα στο «TRIAINA Ouzeri Restaurant». \nO Chef Γιάννης Μπρατσολιάς και ο Sommelier Γεώργιος Κάπος θα επιμεληθούν την εκδήλωση\, παρουσιάζοντας οίνους από την Νεμέα και την Αρχαία Κόρινθο\, συνοδευόμενα από Κορινθιακές\, σύγχρονες συνταγές\, με χρήση τοπικών προϊόντων. \n  \n\n\n\n\n  \n  \n  \n\n  \n
URL:https://loutraki.gov.gr/en/event/taste-of-loutraki-the-corinthian-food-festival/
LOCATION:Λουτράκι\, Λουτράκι\, 20300
GEO:37.9759033;22.9774589
X-APPLE-STRUCTURED-LOCATION;VALUE=URI;X-ADDRESS=Λουτράκι Λουτράκι 20300;X-APPLE-RADIUS=500;X-TITLE=Λουτράκι:geo:22.9774589,37.9759033
CATEGORIES:Γαστρονομία
ATTACH;FMTTYPE=image/jpeg:https://loutraki.gov.gr/wp-content/uploads/2023/05/TASTE-OF-LOUTRAKI.jpg
END:VEVENT
END:VCALENDAR