BEGIN:VCALENDAR
VERSION:2.0
PRODID:-//Δήμος Λουτρακίου - ECPv4.6.12//NONSGML v1.0//EN
CALSCALE:GREGORIAN
METHOD:PUBLISH
X-WR-CALNAME:Δήμος Λουτρακίου
X-ORIGINAL-URL:https://loutraki.gov.gr/en
X-WR-CALDESC:Events for Δήμος Λουτρακίου
BEGIN:VEVENT
DTSTART;TZID=Europe/Athens:20181110T180000
DTEND;TZID=Europe/Athens:20181110T210000
DTSTAMP:20260423T115218
CREATED:20181025T103403Z
LAST-MODIFIED:20181025T103632Z
UID:16887-1541872800-1541883600@loutraki.gov.gr
SUMMARY:Τα Μυστικά Των Κόσμων
DESCRIPTION:Σας προσκαλούμε στην παρουσίαση του ββλίου του Βασίλη Αλεξανδρόπουλου! \nΜια παρουσίαση με… πολλά “Μυστικά” και ακόμα περισσότερες απαντήσεις! \nΣε μια εποχή\, που ίσως κάπου\, σε άλλους κόσμους γινόταν η μάχη των φυλών της Μέσης Γης ενάντια στον Σάουρον ή οι Λαοί της Αλαγαισίας πολεμούσαν τον Γκαλμπατόριξ\, στον κόσμο των Πνευμάτων της Ειρήνης\,γεννιόταν ένα παιδί! Ένας Νεθ\, ένας ειρηνιστής. Ένα άτομο οπλισμένο με άγνωστες δυνάμεις που κάποτε θα ανακαλύψει και θα είναι έτοιμο όταν ο κόσμος του θα τον χρειαστεί!\nΤο όνομά του: Σιγκν Έσλορν. \nΓια το βιβλίο θα μιλήσουν : \nΟ συγγραφέας κ. Βασίλης Αλεξανδρόπουλος \nΟ ζωγράφος κ. Γιάννης Σταυριανίδης \n
URL:https://loutraki.gov.gr/en/event/ta-mystika-ton-kosmon/
LOCATION:Δημητρίου Στάμου\, Αγ\, Θεόδωροι\, Κορινθία\, 20300
ATTACH;FMTTYPE=image/jpeg:https://loutraki.gov.gr/wp-content/uploads/2018/10/afisa-1.jpg
END:VEVENT
END:VCALENDAR