BEGIN:VCALENDAR
VERSION:2.0
PRODID:-//Δήμος Λουτρακίου - ECPv4.6.12//NONSGML v1.0//EN
CALSCALE:GREGORIAN
METHOD:PUBLISH
X-WR-CALNAME:Δήμος Λουτρακίου
X-ORIGINAL-URL:https://loutraki.gov.gr/en
X-WR-CALDESC:Events for Δήμος Λουτρακίου
BEGIN:VEVENT
DTSTART;TZID=Europe/Athens:20250615T210000
DTEND;TZID=Europe/Athens:20250615T230000
DTSTAMP:20260421T185854
CREATED:20250613T083304Z
LAST-MODIFIED:20250613T083304Z
UID:31812-1750021200-1750028400@loutraki.gov.gr
SUMMARY:Στης θάλασσας τα κύματα και στου χορού τα βήματα
DESCRIPTION:\n”Στης θάλασσας τα κύματα και στου χορού τα βήματα…” – Ο ΙΒΥΚΟΣ Σύνδεσμος Λουτρακιωτών – Περαχωριτών σας προσκαλεί στην παράσταση παραδοσιακών χορών των παιδικών του τμημάτων\, Α’\, Β’\, Γ’ & Δ’\, την Κυριακή 15 Ιουνίου 2025 & ώρα 21:00\, στο Θέατρο “Παντελής Ζερβός”\, Πάρκο Δεξαμενής\, Λουτράκι.\n\n\nΧοροδιδάσκαλος:\nΜαρία Μπάκου\n\n\nΣυμμετέχει το εφηβικό τμήμα.\nΧοροδιδάσκαλος: Δημήτρης Μπάκος\n\n\n Είσοδος Ελεύθερη\nΥπό την αιγίδα του Δήμος Λουτρακίου – Περαχώρας – Αγίων Θεοδώρων\n\n
URL:https://loutraki.gov.gr/en/event/stis-thalassas-ta-kymata-kai-stoy-choroy-ta-vimata/
LOCATION:Πάρκο Δεξαμενής\, Λουτράκι\, 20300\, Ελλάδα
GEO:37.9727548;22.9858004
X-APPLE-STRUCTURED-LOCATION;VALUE=URI;X-ADDRESS=Πάρκο Δεξαμενής Λουτράκι 20300 Ελλάδα;X-APPLE-RADIUS=500;X-TITLE=Πάρκο Δεξαμενής:geo:22.9858004,37.9727548
CATEGORIES:
ATTACH;FMTTYPE=image/jpeg:https://loutraki.gov.gr/wp-content/uploads/2025/06/505402397_1150080940486757_4334515341428902961_n.jpg
END:VEVENT
END:VCALENDAR