BEGIN:VCALENDAR
VERSION:2.0
PRODID:-//Δήμος Λουτρακίου - ECPv4.6.12//NONSGML v1.0//EN
CALSCALE:GREGORIAN
METHOD:PUBLISH
X-WR-CALNAME:Δήμος Λουτρακίου
X-ORIGINAL-URL:https://loutraki.gov.gr/en
X-WR-CALDESC:Events for Δήμος Λουτρακίου
BEGIN:VEVENT
DTSTART;TZID=Europe/Athens:20241106T210000
DTEND;TZID=Europe/Athens:20241106T230000
DTSTAMP:20260422T055035
CREATED:20241030T070046Z
LAST-MODIFIED:20241030T070841Z
UID:30588-1730926800-1730934000@loutraki.gov.gr
SUMMARY:Stand up Comedy show - "Σύμφωνο Επιβίωσης"
DESCRIPTION:𝗦𝗧𝗔𝗡𝗗 𝗨𝗣 𝗖𝗢𝗠𝗘𝗗𝗬 𝗦𝗛𝗢𝗪 – “Σύμφωνο Επιβίωσης”\n\n Τετάρτη 6 Νοεμβρίου\n Αλεξάνδρειο Συνεδριακό Κέντρο\, Λουτράκι\n Ώρα έναρξης: 21:00\n\nΟ Αντώνης Κρόμπας κι ο Λευτέρης Ελευθερίου\, ένα από τα αχτύπητα κωμικά δίδυμα της νέας ελληνικής κωμικής σκηνής\, έρχονται με ένα καταπληκτικό Comedy show… Υπογράφουν “Σύμφωνο Επιβίωσης”” και σχολιάζουν\, σατιρίζουν\, υποκρίνονται\, εκνευρίζουν και ερεθίζουν το κοινό μέσα σε καταιγιστικό δίωρο!\nΔεν ξέρεις τι σε περιμένει αυτή την βραδιά \n\n Προπώληση Εισιτηρίων στην Cometogetherlive.gr\n\nhttps://cometogether.live/event/1399\n\nή εδώ \n\n ΥΦΟΣ WALK & WEAR\, Ελ. Βενιζέλου 3\, Λουτράκι\n Βιβλιοπωλείο ΟΙΚΟΝΟΜΟΥ\, Εθν. Αντιστάσεως 3\, Κόρινθος \n
URL:https://loutraki.gov.gr/en/event/stand-up-comedy-show-symfono-epiviosis/
LOCATION:Αλεξάνδρειο Συνεδριακό Κέντρο\, Λουτράκι\, Κορινθία\, 20300\, Ελλάδα
GEO:37.931569;22.991929
X-APPLE-STRUCTURED-LOCATION;VALUE=URI;X-ADDRESS=Αλεξάνδρειο Συνεδριακό Κέντρο Λουτράκι Κορινθία 20300 Ελλάδα;X-APPLE-RADIUS=500;X-TITLE=Αλεξάνδρειο Συνεδριακό Κέντρο:geo:22.991929,37.931569
CATEGORIES:
ATTACH;FMTTYPE=image/jpeg:https://loutraki.gov.gr/wp-content/uploads/2024/10/464705667_976648404496679_4445301091176304414_n.jpg
END:VEVENT
END:VCALENDAR