BEGIN:VCALENDAR
VERSION:2.0
PRODID:-//Δήμος Λουτρακίου - ECPv4.6.12//NONSGML v1.0//EN
CALSCALE:GREGORIAN
METHOD:PUBLISH
X-WR-CALNAME:Δήμος Λουτρακίου
X-ORIGINAL-URL:https://loutraki.gov.gr/en
X-WR-CALDESC:Events for Δήμος Λουτρακίου
BEGIN:VEVENT
DTSTART;TZID=Europe/Athens:20220227T110000
DTEND;TZID=Europe/Athens:20220227T170000
DTSTAMP:20260423T183927
CREATED:20220207T091624Z
LAST-MODIFIED:20220224T094441Z
UID:25092-1645959600-1645981200@loutraki.gov.gr
SUMMARY:Rally Spint Start Line !! ΑΝΑΒΑΛΛΕΤΑΙ !!
DESCRIPTION:\n\n\nRally Spint Start Line\, χωμάτινο στις 27 Φεβρουαρίου \nΤο Κύπελλο Ράλλυ Χώματος ξεκινά με τον πρώτο αγώνα του θεσμού\, το Rally Sprint Start Line στις 26-27 Φεβρουαρίου 2021. \nΟ αγώνας διεξάγεται από το Αθλητικό Σωματείο Start Line και τελεί υπό την αιγίδα Αιγίδα του Δήμου Λουτρακίου- Περαχώρας- Αγίων Θεοδώρων σε συνεργασία με την υποστήριξη του Δήμου Μεγαρέων. \nΤο αγωνιστικό κομμάτι του Rally Sprint Start Line\, περιλαμβάνει τη γνωστή ακροπολική ειδική διαδρομή «Άγιοι Θεόδωροι- Λουτράκι» μήκους 12\,39 χιλιομέτρων η οποία θα διεξαχθεί τρεις φορές. \nΤο κέντρο του αγώνα\, η ανασυγκρότηση\, το service park\, ο τερματισμός και η απονομή του αγώνα θα φιλοξενηθούν για ακόμη μία χρονιά στο Αλεξάνδρειο Συνεδριακό Κέντρο Λουτρακίου. \nΤο Σάββατο 26 Φεβρουαρίου από τις 18:00 έως τις 20:00 θα πραγματοποιηθεί ο Διοικητικός και Τεχνικός έλεγχος των αυτοκινήτων στις εγκαταστάσεις του καταστήματος αυτοκινήτων Power Boost Cars στο 16χλμ Λεωφόρου Λαυρίου.\nΤην Κυριακή 27 Φεβρουαρίου\, το πρόγραμμα περιλαμβάνει την ειδική διαδρομή «Άγιοι Θεόδωροι-Λουτράκι» μήκους 12\,39 χιλιομέτρων η οποία θα διεξαχθεί τρεις φορές. Το πρώτο αγωνιστικό αυτοκίνητο θα λάβει εκκίνηση από το Αλεξάνδρειο Συνεδριακό Κέντρο Λουτρακίου στις 11:00. Στη συνέχεια\, τα πληρώματα μετά από 38\,91 αγωνιστικά χιλιόμετρα θα τερματίσουν εκ νέου στο Αλεξάνδρειο Συνεδριακό Κέντρο Λουτρακίου στις 16:48. Οι απονομές των επάθλων θα γίνουν στις 19.00 στον ίδιο χώρο. \nΤο Rally Sprint Start Line θα διεξαχθεί σύμφωνα με τα Υγειονομικά Πρωτόκολλα της ΓΓΑ\, τα οποία είναι αναρτημένα στην ιστοσελίδα της ΟΜΑΕ.  \n\n—–\n\n\n\n\n\n \n\n\n
URL:https://loutraki.gov.gr/en/event/rally-spint-start-line/
LOCATION:Αλεξάνδρειο Συνεδριακό Κέντρο\, Λουτράκι\, Κορινθία\, 20300\, Ελλάδα
GEO:37.931569;22.991929
X-APPLE-STRUCTURED-LOCATION;VALUE=URI;X-ADDRESS=Αλεξάνδρειο Συνεδριακό Κέντρο Λουτράκι Κορινθία 20300 Ελλάδα;X-APPLE-RADIUS=500;X-TITLE=Αλεξάνδρειο Συνεδριακό Κέντρο:geo:22.991929,37.931569
CATEGORIES:Αθλητικές
ATTACH;FMTTYPE=image/jpeg:https://loutraki.gov.gr/wp-content/uploads/2022/02/273031742_301375628690630_7452448114211632633_n.jpg
ORGANIZER;CN="Start%20Line%20RC":MAILTO:info@startline.gr
END:VEVENT
END:VCALENDAR