BEGIN:VCALENDAR
VERSION:2.0
PRODID:-//Δήμος Λουτρακίου - ECPv4.6.12//NONSGML v1.0//EN
CALSCALE:GREGORIAN
METHOD:PUBLISH
X-WR-CALNAME:Δήμος Λουτρακίου
X-ORIGINAL-URL:https://loutraki.gov.gr/en
X-WR-CALDESC:Events for Δήμος Λουτρακίου
BEGIN:VEVENT
DTSTART;TZID=Europe/Athens:20240110T180000
DTEND;TZID=Europe/Athens:20240110T200000
DTSTAMP:20260422T225049
CREATED:20240108T112247Z
LAST-MODIFIED:20240108T112247Z
UID:28895-1704909600-1704916800@loutraki.gov.gr
SUMMARY:“Πρώτες Βοήθειες – Η Γνώση Σώζει Ζωές”
DESCRIPTION:\nΤο Κέντρο Υγείας Λουτρακίου με την υποστήριξη του Δήμος Λουτρακίου – Περαχώρας – Αγίων Θεοδώρων και της Περιφέρειας Πελοποννήσου διοργανώνει ενημερωτική εκδήλωση με θέμα: “Πρώτες Βοήθειες – Η Γνώση Σώζει Ζωές”.\n\n\nΗ ημερίδα θα πραγματοποιηθεί την Τετάρτη 10 Ιανουαρίου και ώρα 6.00 μ.μ.\, στην αίθουσα εκδηλώσεων του Κ.Υ. Λουτρακίου.\n\n\nΕισηγήτρια: Δρ. Παρασκευή Σούκουλη\, Διευθύντρια του Κέντρου Υγείας\n\n\nΣτην διάρκεια της ημερίδας θα τεθούν τα ζητήματα:\nΑτυχήματα και τραυματισμοί σε ανοικτούς χώρους\nΑντιμετώπιση καρδιακής ανακοπής – ΚΑΡΠΑ\nΠρωτόκολλο πνιγμονής και θέση ασφαλείας\nΑσφαλής συμπεριφορά στον δρόμο – Κανόνες οδικής κυκλοφορίας\n\n
URL:https://loutraki.gov.gr/en/event/protes-voitheies-i-gnosi-sozei-zoes/
LOCATION:Τέρμα Καραϊσκάκη & Περικλέους\, ΛΟΥΤΡΑΚΙ\, Κορινθίας\, 20300\, Ελλάδα
GEO:37.972405;22.9816377
X-APPLE-STRUCTURED-LOCATION;VALUE=URI;X-ADDRESS=Τέρμα Καραϊσκάκη & Περικλέους ΛΟΥΤΡΑΚΙ Κορινθίας 20300 Ελλάδα;X-APPLE-RADIUS=500;X-TITLE=Τέρμα Καραϊσκάκη & Περικλέους:geo:22.9816377,37.972405
CATEGORIES:Υγείας
ATTACH;FMTTYPE=image/jpeg:https://loutraki.gov.gr/wp-content/uploads/2024/01/ΚΥ-ΛΟΥΤΡΑΚΙΟΥ_Α-ΒΟΗΘΕΙΕΣ.jpg
END:VEVENT
END:VCALENDAR