BEGIN:VCALENDAR
VERSION:2.0
PRODID:-//Δήμος Λουτρακίου - ECPv4.6.12//NONSGML v1.0//EN
CALSCALE:GREGORIAN
METHOD:PUBLISH
X-WR-CALNAME:Δήμος Λουτρακίου
X-ORIGINAL-URL:https://loutraki.gov.gr/en
X-WR-CALDESC:Events for Δήμος Λουτρακίου
BEGIN:VEVENT
DTSTART;TZID=Europe/Athens:20221023T080000
DTEND;TZID=Europe/Athens:20221023T170000
DTSTAMP:20260423T115307
CREATED:20220323T092517Z
LAST-MODIFIED:20220323T102614Z
UID:25432-1666512000-1666544400@loutraki.gov.gr
SUMMARY:ΠΡΩΤΑΘΛΗΜΑ SCRAMBLE ΝΟΤΙΟΥ ΕΛΛΑΔΟΣ 2022
DESCRIPTION: \nΟ αγώνας διοργανώνεται από το Αθλητικό Σωματείο ΜΟ.Λ.Π μετά από έγκριση της Αθλητικής ΜΟΤΟΕ. \n
URL:https://loutraki.gov.gr/en/event/protathlima-scramble-notioy-ellados-2022/
CATEGORIES:Αθλητικές
ATTACH;FMTTYPE=image/jpeg:https://loutraki.gov.gr/wp-content/uploads/2022/03/ΠΡΩΤΑΘΛΗΜΑ-SCRAMBLE-ΝΟΤΙΟΥ-ΕΛΛΑΔΟΣ-2022-1.jpg
END:VEVENT
END:VCALENDAR