BEGIN:VCALENDAR
VERSION:2.0
PRODID:-//Δήμος Λουτρακίου - ECPv4.6.12//NONSGML v1.0//EN
CALSCALE:GREGORIAN
METHOD:PUBLISH
X-WR-CALNAME:Δήμος Λουτρακίου
X-ORIGINAL-URL:https://loutraki.gov.gr/en
X-WR-CALDESC:Events for Δήμος Λουτρακίου
BEGIN:VEVENT
DTSTART;TZID=Europe/Athens:20191005T190000
DTEND;TZID=Europe/Athens:20191005T190000
DTSTAMP:20260424T134612
CREATED:20190930T113148Z
LAST-MODIFIED:20190930T113148Z
UID:18550-1570302000-1570302000@loutraki.gov.gr
SUMMARY:Παρουσίαση Βιβλίου
DESCRIPTION:Στις 5 Οκτωβρίου στη Δημοτική Βιβλιοθήκη Λουτρακίου\, η Βίλη Σωτηροπούλου θα μας παρουσιάσει τον Μπέμπη της\, να μας ταξιδέψει\, μέσα από την πολυτάραχη ζωή του\, να θέσει τις αμφιβολίες και τα ερωτήματά του… Έτσι καθώς το ταξίδι της ζωής συνεχίζεται… Σας περιμένουμε όλους στα πρώτα του βήματα. \nΓια το Βιβλίο θα μιλήσει:\nΑντιγόνη Πόμμερ\n(Συγγραφέας και Καθηγήτρια λογοτεχνικής γραφής)\nΑποσπάσματα θα διαβάσουν οι ηθοποιοί:\nΙωάννης Αθανασόπουλος\nΧαρά κονταξάκη\nΆννα Μακρή\nΚαλλιόπη Μανδρέκα \nΚαι στο τέλος θα ακολουθήσει συζήτηση με το κοινό \n
URL:https://loutraki.gov.gr/en/event/paroysiasi-vivlioy/
LOCATION:Οικονόμου 3 & Τομπάζη\, Λουτράκι\, Κορινθία\, 20300\, Ελλάδα
GEO:37.9724674;22.9770054
X-APPLE-STRUCTURED-LOCATION;VALUE=URI;X-ADDRESS=Οικονόμου 3 & Τομπάζη Λουτράκι Κορινθία 20300 Ελλάδα;X-APPLE-RADIUS=500;X-TITLE=Οικονόμου 3 & Τομπάζη:geo:22.9770054,37.9724674
CATEGORIES:
ATTACH;FMTTYPE=image/jpeg:https://loutraki.gov.gr/wp-content/uploads/2019/09/ΒΙΒΛΙΟΠΑΡΟΥΣΙΑΣΗ-Ο-ΜΠΕΜΠΗΣ.jpg
END:VEVENT
END:VCALENDAR