BEGIN:VCALENDAR
VERSION:2.0
PRODID:-//Δήμος Λουτρακίου - ECPv4.6.12//NONSGML v1.0//EN
CALSCALE:GREGORIAN
METHOD:PUBLISH
X-WR-CALNAME:Δήμος Λουτρακίου
X-ORIGINAL-URL:https://loutraki.gov.gr/en
X-WR-CALDESC:Events for Δήμος Λουτρακίου
BEGIN:VEVENT
DTSTART;TZID=Europe/Athens:20190808T213000
DTEND;TZID=Europe/Athens:20190808T233000
DTSTAMP:20260424T140501
CREATED:20190702T182645Z
LAST-MODIFIED:20190702T182645Z
UID:17994-1565299800-1565307000@loutraki.gov.gr
SUMMARY:Παρουσίαση Βιβλίου «Μαγειρεύοντας στη Νάξο και στις μικρές Κυκλάδες»
DESCRIPTION:Δημοτική Βιβλιοθήκη Λουτρακίου | Ώρα 21.30\n“Στον πηγαιμό για τη Νάξο… Ελάτε μαζί μου για ένα ονειρεμένο ταξίδι σε μεθυστικά αρώματα\, εκρηκτικά χρώματα\, μαγικές μυρωδιές\, και παραδοσιακές πανάρχαιες γεύσεις της Νάξου και των Μικρών Κυκλάδων. Ελάτε σε έναν καταγάλανο παραδεισένιο τόπο\, ευλογημένο με  κάλλος και αρχαία σοφία. Το ταξίδι είναι αυτό που μετράει! Ένα ταξίδι στον χώρο\, στον χρόνο και στις χαρές του ουρανίσκου! Καλοτάξιδες θάλασσες και ούριοι άνεμοι λοιπόν!” Χρήστος Νέζος  \n
URL:https://loutraki.gov.gr/en/event/paroysiasi-vivlioy-mageireyontas-sti-naxo-kai-stis-mikres-kyklades/
LOCATION:Οικονόμου 3 & Τομπάζη\, Λουτράκι\, Κορινθία\, 20300\, Ελλάδα
GEO:37.9724674;22.9770054
X-APPLE-STRUCTURED-LOCATION;VALUE=URI;X-ADDRESS=Οικονόμου 3 & Τομπάζη Λουτράκι Κορινθία 20300 Ελλάδα;X-APPLE-RADIUS=500;X-TITLE=Οικονόμου 3 & Τομπάζη:geo:22.9770054,37.9724674
CATEGORIES:Loutraki Festival 2019,
ATTACH;FMTTYPE=image/jpeg:https://loutraki.gov.gr/wp-content/uploads/2019/07/unnamed-10.jpg
END:VEVENT
END:VCALENDAR