BEGIN:VCALENDAR
VERSION:2.0
PRODID:-//Δήμος Λουτρακίου - ECPv4.6.12//NONSGML v1.0//EN
CALSCALE:GREGORIAN
METHOD:PUBLISH
X-WR-CALNAME:Δήμος Λουτρακίου
X-ORIGINAL-URL:https://loutraki.gov.gr/en
X-WR-CALDESC:Events for Δήμος Λουτρακίου
BEGIN:VEVENT
DTSTART;TZID=Europe/Athens:20220917T080000
DTEND;TZID=Europe/Athens:20220917T190000
DTSTAMP:20260423T144237
CREATED:20220913T083945Z
LAST-MODIFIED:20220913T085122Z
UID:26158-1663401600-1663441200@loutraki.gov.gr
SUMMARY:Παρουσίαση βιβλίου: "Από το λυκαυγές στο λυκόφως"
DESCRIPTION:Ο Ιατρός Δημήτρης Αθ. Ζόγκας σας προσκαλεί στην παρουσίαση του βιβλίου του\, “Από το λυκαυγές στο λυκόφως”\, το Σάββατο 17 Σεπτεμβρίου 2022 και ώρα 19.00 στον κήπο της Δημοτικής Βιβλιοθήκης Λουτρακίου.  \n*σε περίπτωση κακοκαιρίας\, η εκδήλωση θα διεξαχθεί την ίδια ώρα και μέρα στο Αλεξάνδρειο Συνεδριακό Κέντρο Λουτρακίου*\n\nΤην εκδήλωση υποστηρίζει ο Δήμος Λουτρακίου – Περαχώρας – Αγ. Θεοδώρων και το Εθνομουσικολογικό Ίδρυμα Πέτρου Γ. Ζήση \n \n
URL:https://loutraki.gov.gr/en/event/paroysiasi-vivlioy-apo-to-lykayges-sto-lykofos/
LOCATION:Οικονόμου 3 & Τομπάζη\, Λουτράκι\, Κορινθία\, 20300\, Ελλάδα
GEO:37.9724674;22.9770054
X-APPLE-STRUCTURED-LOCATION;VALUE=URI;X-ADDRESS=Οικονόμου 3 & Τομπάζη Λουτράκι Κορινθία 20300 Ελλάδα;X-APPLE-RADIUS=500;X-TITLE=Οικονόμου 3 & Τομπάζη:geo:22.9770054,37.9724674
ATTACH;FMTTYPE=image/jpeg:https://loutraki.gov.gr/wp-content/uploads/2022/09/zogas-dimitrios_banner_800x600_01.jpg
END:VEVENT
END:VCALENDAR