BEGIN:VCALENDAR
VERSION:2.0
PRODID:-//Δήμος Λουτρακίου - ECPv4.6.12//NONSGML v1.0//EN
CALSCALE:GREGORIAN
METHOD:PUBLISH
X-WR-CALNAME:Δήμος Λουτρακίου
X-ORIGINAL-URL:https://loutraki.gov.gr/en
X-WR-CALDESC:Events for Δήμος Λουτρακίου
BEGIN:VEVENT
DTSTART;TZID=Europe/Athens:20190830T210000
DTEND;TZID=Europe/Athens:20190830T233000
DTSTAMP:20260424T122048
CREATED:20190829T221225Z
LAST-MODIFIED:20190829T221225Z
UID:18393-1567198800-1567207800@loutraki.gov.gr
SUMMARY:Παράσταση με χορευτικά συγκροτήματα
DESCRIPTION:Παρασκευή 30 Αυγούστου και ώρα 9.00 μ.μ.\nΠαραλιακό Πάρκο Λουτρακίου\n?Παράσταση με τα χορευτικά συγκροτήματα:\n??Persian art από το Ιράν \n??Το χορευτικό του Πανεπιστημίου της Βαρσοβίας Warszawianka από την Πολωνία \n??STASTNE DETSTVO από το BREZNO της Σλοβακίας\n??Ansamblul Dumbrăvițeana – Pro Datina\, SIRETELUL και Banaturl Professional Enslemble από την Ρουμανία \n
URL:https://loutraki.gov.gr/en/event/parastasi-me-choreytika-sygkrotimata/
LOCATION:Παραλιακό Πάρκο\, ΛΟΥΤΡΑΚΙ\, Κορινθία\, 20300\, Ελλάδα
GEO:37.9792631;22.9735862
X-APPLE-STRUCTURED-LOCATION;VALUE=URI;X-ADDRESS=Παραλιακό Πάρκο ΛΟΥΤΡΑΚΙ Κορινθία 20300 Ελλάδα;X-APPLE-RADIUS=500;X-TITLE=Παραλιακό Πάρκο:geo:22.9735862,37.9792631
CATEGORIES:
ATTACH;FMTTYPE=image/jpeg:https://loutraki.gov.gr/wp-content/uploads/2019/08/69367812_2213901558733203_3131103198270455808_n.jpg
END:VEVENT
END:VCALENDAR