BEGIN:VCALENDAR
VERSION:2.0
PRODID:-//Δήμος Λουτρακίου - ECPv4.6.12//NONSGML v1.0//EN
CALSCALE:GREGORIAN
METHOD:PUBLISH
X-WR-CALNAME:Δήμος Λουτρακίου
X-ORIGINAL-URL:https://loutraki.gov.gr/en
X-WR-CALDESC:Events for Δήμος Λουτρακίου
BEGIN:VEVENT
DTSTART;TZID=Europe/Athens:20191221T180000
DTEND;TZID=Europe/Athens:20191221T203000
DTSTAMP:20260424T054356
CREATED:20191218T110212Z
LAST-MODIFIED:20191218T110442Z
UID:19319-1576951200-1576960200@loutraki.gov.gr
SUMMARY:Παραμυθένια Χριστούγεννα στην Περαχώρα
DESCRIPTION:18.00 – 19.00 Χορευτικά δρώμενα και zumba με τη συμμετοχή τμημάτων του Πολιτιστικού Συλλόγου Περαχώρας. \n19.00 – 20.30 Κατηχητική συντροφιά \nΚάλαντα από διάφορα μέρη της Ελλάδας\, ποιήματα και θεατρικό δρώμενο από την κατηχητική συντροφιά. \n
URL:https://loutraki.gov.gr/en/event/paramythenia-christoygenna-stin-perachora/
LOCATION:Περαχώρα\, Λουτράκι\, Κορινθία\, 20300\, Ελλάδα
GEO:38.0301124;22.9485075
X-APPLE-STRUCTURED-LOCATION;VALUE=URI;X-ADDRESS=Περαχώρα Λουτράκι Κορινθία 20300 Ελλάδα;X-APPLE-RADIUS=500;X-TITLE=Περαχώρα:geo:22.9485075,38.0301124
CATEGORIES:
ATTACH;FMTTYPE=image/png:https://loutraki.gov.gr/wp-content/uploads/2019/12/xristoygena-2019.png
END:VEVENT
END:VCALENDAR