BEGIN:VCALENDAR
VERSION:2.0
PRODID:-//Δήμος Λουτρακίου - ECPv4.6.12//NONSGML v1.0//EN
CALSCALE:GREGORIAN
METHOD:PUBLISH
X-WR-CALNAME:Δήμος Λουτρακίου
X-ORIGINAL-URL:https://loutraki.gov.gr/en
X-WR-CALDESC:Events for Δήμος Λουτρακίου
BEGIN:VEVENT
DTSTART;TZID=Europe/Athens:20230610T200000
DTEND;TZID=Europe/Athens:20230610T220000
DTSTAMP:20260423T041638
CREATED:20230608T111537Z
LAST-MODIFIED:20230608T111537Z
UID:28112-1686427200-1686434400@loutraki.gov.gr
SUMMARY:Παραδοσιακή Εκδήλωση χορευτικών τμημάτων
DESCRIPTION:Ο Δήμος Λουτρακίου – Περαχώρας – Αγίων Θεοδώρων σας προσκαλεί στην Παραδοσιακή Εκδήλωση χορευτικών τμημάτων της Δημοτικής Κοινότητας Αγίων Θεοδώρων\, το Σάββατο 10 Ιουνίου και ώρα 8:00 μ.μ. στην πλατεία Φιλοστράτας Αγίων Θεοδώρων. \n \n
URL:https://loutraki.gov.gr/en/event/paradosiaki-ekdilosi-choreytikon-tmimaton-2/
CATEGORIES:
ATTACH;FMTTYPE=image/jpeg:https://loutraki.gov.gr/wp-content/uploads/2023/06/ΠΑΡΑΔΟΣΙΑΚΟΙ-ΧΟΡΟΙ-ΑΓΙΟΙ-ΘΕΟΔΩΡΟΙ-2023.jpg
END:VEVENT
END:VCALENDAR