BEGIN:VCALENDAR
VERSION:2.0
PRODID:-//Δήμος Λουτρακίου - ECPv4.6.12//NONSGML v1.0//EN
CALSCALE:GREGORIAN
METHOD:PUBLISH
X-WR-CALNAME:Δήμος Λουτρακίου
X-ORIGINAL-URL:https://loutraki.gov.gr/en
X-WR-CALDESC:Events for Δήμος Λουτρακίου
BEGIN:VEVENT
DTSTART;VALUE=DATE:20200119
DTEND;VALUE=DATE:20200120
DTSTAMP:20260424T052913
CREATED:20200114T093017Z
LAST-MODIFIED:20200114T111138Z
UID:19404-1579392000-1579478399@loutraki.gov.gr
SUMMARY:Πανελλήνιο Πρωτάθλημα ΚΑΡΑΤΕ Ανδρών - Γυναικών 2020
DESCRIPTION:Το Πανελλήνιο Πρωτάθλημα Ανδρών – Γυναικών έτους 2020 πρόκειται να διεξαχθεί την Κυριακή 19 Ιανουαρίου στο κλειστό γυμναστήριο Αγίων Θεοδώρων. \n \nΠερισσότερες πληροφορίες στη σελίδα των αγώνων https://bit.ly/2snOOWp \nΔιαβάστε την Προκύρηξη του αγώνα  \n[gview file=”https://loutraki.gov.gr/wp-content/uploads/2020/01/0943-ΠΡΟΚΗΡΥΞΗ-ΠΑΝΕΛΛΗΝΙΟΥ-ΑΝΔΡΩΝ-ΓΥΝΑΙΚΩΝ-1.pdf”] \n
URL:https://loutraki.gov.gr/en/event/panellinio-protathlima-andron-gynaikon-2020/
LOCATION:Αγ\, Θεόδωροι\, Κορινθία\, 20003\, Ελλάδα
GEO:37.9322239;23.1385086
CATEGORIES:Αθλητικές
ATTACH;FMTTYPE=image/jpeg:https://loutraki.gov.gr/wp-content/uploads/2020/01/PANELLINIO2020.jpg
END:VEVENT
END:VCALENDAR