BEGIN:VCALENDAR
VERSION:2.0
PRODID:-//Δήμος Λουτρακίου - ECPv4.6.12//NONSGML v1.0//EN
CALSCALE:GREGORIAN
METHOD:PUBLISH
X-WR-CALNAME:Δήμος Λουτρακίου
X-ORIGINAL-URL:https://loutraki.gov.gr/en
X-WR-CALDESC:Events for Δήμος Λουτρακίου
BEGIN:VEVENT
DTSTART;TZID=Europe/Athens:20240815T200000
DTEND;TZID=Europe/Athens:20240815T220000
DTSTAMP:20260422T084651
CREATED:20240809T110503Z
LAST-MODIFIED:20240809T110503Z
UID:30215-1723752000-1723759200@loutraki.gov.gr
SUMMARY:Παιδική παράσταση “ΧΙΟΝΑΤΗ into the woods”
DESCRIPTION:Μια απρόσμενη γνωριμία της Χιονάτης με το πριγκιπόπουλο αναστατώνει την κακιά  βασίλισσα.\nΚυνηγημένη καταφεύγει στο δάσος για να σωθεί…  \nΣτο περιπετειώδες ταξίδι της μέσα στο μαγεμένο δάσος η Χιονάτη έχει συντροφιά τους φίλους της τα ζωάκια. \nΘα συναντήσει και τους καλοκάγαθους νάνους. Ο σοφός\, ο χαρούμενος\, ο υπναρούλης\, ο ντροπαλός\, ο συναχωμένος\, ο γκρινιάρης και ο χαζούλης θα την υποδεχτούν με αγάπη.\nΌμως η κακιά μάγισσα είχε άλλα σχέδια… \n \nShow description:\n \nΜια φαντασμαγορική θεατρική παράσταση με γιγάντιες μάσκες και περίτεχνες κατασκευές. Τα ευρηματικά σκηνικά και ευφάνταστα κουστούμια θα ταξιδέψουν μικρούς και μεγάλους στο μαγικό κόσμο των παραμυθιών και της φαντασίας.\nΈνα συνονθύλευμα από ειδικά εφέ και 3D Animation διαμορφώνουν ένα μοναδικό σκηνικό και μια ονειρεμένη επί σκηνής περιπέτεια που μπορεί να παρακολουθήσει όλη η οικογένεια.\n \nΜια θεατρική παράσταση φτιαγμένη με πολλή αγάπη και σεβασμό στους μικρούς και μεγάλους φίλους του θεάτρου.\n \nΈνα θεατρικό έργο με πολλά μηνύματα που μιλάει για τη σημασία της συντροφικότητας και τη δύναμη της φιλίας\, για την αιώνια διαμάχη του καλού με το κακό\, για το δικαίωμα που έχει κάθε πλάσμα στη ζωή\, για το σεβασμό της διαφορετικότητας\, αλλά και για την κρυμμένη δύναμη και αποφασιστικοτητα που κρύβεται μέσα μας.\n
URL:https://loutraki.gov.gr/en/event/paidiki-parastasi-chionati-into-the-woods/
LOCATION:Πάρκο Δεξαμενής\, Λουτράκι\, 20300\, Ελλάδα
GEO:37.9727548;22.9858004
X-APPLE-STRUCTURED-LOCATION;VALUE=URI;X-ADDRESS=Πάρκο Δεξαμενής Λουτράκι 20300 Ελλάδα;X-APPLE-RADIUS=500;X-TITLE=Πάρκο Δεξαμενής:geo:22.9858004,37.9727548
CATEGORIES:
ATTACH;FMTTYPE=image/jpeg:https://loutraki.gov.gr/wp-content/uploads/2024/08/xionati.jpg
END:VEVENT
END:VCALENDAR